BEGIN:VCALENDAR
VERSION:2.0
PRODID:-//Wisconsin Procurement Institute - ECPv6.15.17.1//NONSGML v1.0//EN
CALSCALE:GREGORIAN
METHOD:PUBLISH
X-ORIGINAL-URL:https://www.wispro.org
X-WR-CALDESC:Events for Wisconsin Procurement Institute
REFRESH-INTERVAL;VALUE=DURATION:PT1H
X-Robots-Tag:noindex
X-PUBLISHED-TTL:PT1H
BEGIN:VTIMEZONE
TZID:America/Chicago
BEGIN:DAYLIGHT
TZOFFSETFROM:-0600
TZOFFSETTO:-0500
TZNAME:CDT
DTSTART:20250309T080000
END:DAYLIGHT
BEGIN:STANDARD
TZOFFSETFROM:-0500
TZOFFSETTO:-0600
TZNAME:CST
DTSTART:20251102T070000
END:STANDARD
BEGIN:DAYLIGHT
TZOFFSETFROM:-0600
TZOFFSETTO:-0500
TZNAME:CDT
DTSTART:20260308T080000
END:DAYLIGHT
BEGIN:STANDARD
TZOFFSETFROM:-0500
TZOFFSETTO:-0600
TZNAME:CST
DTSTART:20261101T070000
END:STANDARD
BEGIN:DAYLIGHT
TZOFFSETFROM:-0600
TZOFFSETTO:-0500
TZNAME:CDT
DTSTART:20270314T080000
END:DAYLIGHT
BEGIN:STANDARD
TZOFFSETFROM:-0500
TZOFFSETTO:-0600
TZNAME:CST
DTSTART:20271107T070000
END:STANDARD
END:VTIMEZONE
BEGIN:VEVENT
DTSTART;VALUE=DATE:20260419
DTEND;VALUE=DATE:20260423
DTSTAMP:20260420T045553
CREATED:20260305T213629Z
LAST-MODIFIED:20260305T213629Z
UID:10003712-1776556800-1776902399@www.wispro.org
SUMMARY:Sea-Air-Space 2026 The Navy League's Global Maritime Expo
DESCRIPTION:Powered by the Navy League of the United States\, Sea-Air-Space is the premier maritime exposition in the U.S.\, bringing together defense industry leaders and top military decision-makers from around the world to share the latest advancements in the maritime domain. With industry leading speakers and events featured across three impactful days\, Sea-Air-Space is a must-attend for anyone invested in the future of U.S. maritime strength and innovation. \nSea-Air-Space offers unmatched opportunities to connect\, learn\, and lead in the maritime defense community. Here’s what attendees and exhibitors can expect: \n\nNumerous networking and business-generating opportunities. Connect with policy-makers\, senior military leaders\, program managers\, and industry decision-makers to build partnerships and spark new opportunities.\n4 Expansive Exhibit Hall Experiences. Explore hundreds of cutting-edge exhibits showcasing the latest innovations\, technologies\, and solutions driving the future of maritime\, naval\, and defense operations.\nProfessional development opportunities. Gain the latest insights into today’s defense landscape and where it’s headed through expert-led panels and sessions.\nInfluential Keynotes & Luncheons –  Hear from the nation’s top defense\, industry\, and government leaders as they share real-time updates and long-term visions in an open\, engaging forum.\n\nFor more information\, click here.
URL:https://www.wispro.org/event/sea-air-space-2026-the-navy-leagues-global-maritime-expo/
LOCATION:Gaylord National Resort & Convention Center\, 201 Waterfront Street\, National Harbor\, MD\, 20745\, United States
CATEGORIES:In Person Event,Out of State,WPI Partner Events
ATTACH;FMTTYPE=image/png:https://www.wispro.org/wp-content/uploads/2026/03/2026-Sea-Air-Space-Expo.png
ORGANIZER;CN="Navy League of the United States":MAILTO:registration@navyleague.org
END:VEVENT
BEGIN:VEVENT
DTSTART;VALUE=DATE:20260421
DTEND;VALUE=DATE:20260424
DTSTAMP:20260420T045553
CREATED:20260211T152151Z
LAST-MODIFIED:20260211T152234Z
UID:10003678-1776729600-1776988799@www.wispro.org
SUMMARY:DLA Energy Worldwide
DESCRIPTION:The 2026 DLA Energy Worldwide is designed as a mission-focused\, business-forward convening that brings together government leaders\, military services\, industry partners\, and technical experts to examine how energy powers readiness\, resilience\, and global advantage. \n​Across three days\, attendees can expect a balanced program of plenary sessions\, technical deep dives\, operational briefings\, and interactive workshops—each aligned to real-world execution\, collaboration\, and future capability. \nFor more information\, click here.
URL:https://www.wispro.org/event/dla-energy-worldwide-2026/
LOCATION:Hyatt Regency Crystal City\, 2799 Richmond Hwy\, Arlington\, VA\, 22202\, United States
CATEGORIES:In Person Event,Out of State,WPI Partner Events
ATTACH;FMTTYPE=image/png:https://www.wispro.org/wp-content/uploads/2026/02/2026-DLA-Energy-Worldwide-e1770823347206.png
GEO:38.849043;-77.051666
X-APPLE-STRUCTURED-LOCATION;VALUE=URI;X-ADDRESS=Hyatt Regency Crystal City 2799 Richmond Hwy Arlington VA 22202 United States;X-APPLE-RADIUS=500;X-TITLE=2799 Richmond Hwy:geo:-77.051666,38.849043
END:VEVENT
BEGIN:VEVENT
DTSTART;VALUE=DATE:20260430
DTEND;VALUE=DATE:20260501
DTSTAMP:20260420T045553
CREATED:20260305T222722Z
LAST-MODIFIED:20260305T222722Z
UID:10003713-1777507200-1777593599@www.wispro.org
SUMMARY:Modern Day Marine
DESCRIPTION:Modern Day Marine is the largest military equipment\, systems\, services and technology exposition exclusively targeted to Marines and the Corps. The show floor hosts more than 300 exhibitors displaying the latest warfighting innovations and technology\, briefings from influential Marines and DoD personnel\, the OBJ1 Wargaming Convention\, and more. \nModern Day Marine (MDM) is open to Department of War professionals\, active duty and reserve service members and their families\, members of the Marine Corps League and/or Marine Corps Association (the MDM Co-Host organizations)\, Defense Industry affiliated personnel\, law enforcement\, industry/consultant representatives\, and invited international guests. Suppliers\, manufacturers\, consultants and other non-exhibiting entities may also attend the expo for a $300 registration fee. Attendees must have an “identifiable relationship with the United States Marine Corps.” \nMDM is not open to the general public. Registration is required for all categories of attendees\, and all registrants must provide proof of identity with a government issued photographic ID for badge pick up on show site at the registration desk. Children under the age of 16\, except Young Marines and JROTC members\, are not allowed at Modern Day Marine. Infants are permitted\, but strollers are not allowed in the Expo Hall. \nFor more information\, click here.
URL:https://www.wispro.org/event/modern-day-marine/
LOCATION:Walter E. Washington Convention Center\, 801 Allen Y. Lew Place NW\, Washington\, DC\, 20001\, United States
CATEGORIES:In Person Event,Out of State,WPI Partner Events
ATTACH;FMTTYPE=image/png:https://www.wispro.org/wp-content/uploads/2026/03/2026-Modern-Day-Marine-e1772748848663.png
ORGANIZER;CN="Emerald X":MAILTO:jaymie.nielsen@emeraldx.com
END:VEVENT
BEGIN:VEVENT
DTSTART;VALUE=DATE:20260512
DTEND;VALUE=DATE:20260514
DTSTAMP:20260420T045553
CREATED:20251030T162648Z
LAST-MODIFIED:20260304T151100Z
UID:10003527-1778544000-1778716799@www.wispro.org
SUMMARY:DLA Training\, Knowledge\, and Opportunities (TKO) Seminar
DESCRIPTION:The TKO seminar is a course that teaches vendors how to start doing business with DLA Land and Maritime. Vendors learn how to find open solicitations\, how to submit a quote through the DLA Internet Bid Board System (DIBBS)\, the procedures for viewing/downloading drawings\, and how to use Invoicing\, Receipt\, Acceptance and Property Transfer (iRAPT) to get paid. There are also many other relevant topics of discussion. This session is free and is being held at DLA Land and Maritime in Columbus\, Ohio. \nFor more information\, click here. \nTo view a list of events in this series\, click here.
URL:https://www.wispro.org/event/dla-training-knowledge-and-opportunities-tko-seminar-2026-06-12_13/
LOCATION:DLA Land and Maritime – Columbus\, OH\, 3990 East Broad Street\, Columbus\, OH\, 43218-3990\, United States
CATEGORIES:In Person Event,Out of State,WPI Partner Events
ATTACH;FMTTYPE=image/png:https://www.wispro.org/wp-content/uploads/2024/02/TKO.png
ORGANIZER;CN="Defense Logistics Agency":MAILTO:FASupplierOps@dla.mil
END:VEVENT
BEGIN:VEVENT
DTSTART;VALUE=DATE:20260601
DTEND;VALUE=DATE:20260604
DTSTAMP:20260420T045553
CREATED:20251031T161812Z
LAST-MODIFIED:20251031T161812Z
UID:10003534-1780272000-1780531199@www.wispro.org
SUMMARY:DLA Supply Chain Alliance Symposium & Exhibition
DESCRIPTION:Please join us for the Defense Logistics Agency Supply Chain Alliance Symposium & Exhibition in June 2026 in Columbus\, Ohio. This event is hosted by the National Defense Industrial Association in partnership with the Defense Logistics Agency. \nThis two-day event will bring together Government and Industry leaders to discuss current and future challenges. Hear directly from leading Industry Executives\, DoD Senior officials\, as well as multiple General/Flag officers. \nWe will also be facilitating Small Business Matchmaking\, breakout sessions for a variety of topics\, and creating networking opportunities. \nNo matter if you are a small business looking to begin a working relationship with DLA or an established large business that wants to strengthen the relationship you have already developed\, we look forward to your participation at this event. DLA welcomes new businesses that want to join the team and those businesses that have been working with us for years. \nJoin us and learn more about DLA\, and how we can partner together to continually improve Warfighter Support! \nTo learn more\, click here.
URL:https://www.wispro.org/event/dla-supply-chain-alliance-symposium-exhibition/
CATEGORIES:In Person Event,Out of State,WPI Partner Events
ATTACH;FMTTYPE=image/png:https://www.wispro.org/wp-content/uploads/2025/10/2026.06.01-DLA-Supply-Chain-Alliance-Symposium.png
ORGANIZER;CN="Defense Logistics Agency":MAILTO:FASupplierOps@dla.mil
END:VEVENT
BEGIN:VEVENT
DTSTART;VALUE=DATE:20260616
DTEND;VALUE=DATE:20260618
DTSTAMP:20260420T045553
CREATED:20260326T213020Z
LAST-MODIFIED:20260326T213020Z
UID:10003816-1781568000-1781740799@www.wispro.org
SUMMARY:Defense Industry Day 2026
DESCRIPTION:IMEC is excited to announce that Defense Industry Day 2026 is coming soon. This event brings together manufacturers\, defense leaders\, and industry partners to explore opportunities across the defense supply chain and strengthen the industrial base. \nAttendees will gain insights from industry experts\, connect with prime contractors\, and learn how manufacturers can position themselves for growth in the defense sector. \nSave the Date: June 16–17\, 2026\nLocation: Chicagoland \nMore details and registration information will be shared soon.
URL:https://www.wispro.org/event/defense-industry-day-2026/
CATEGORIES:In Person Event,Out of State,WPI Partner Events
ATTACH;FMTTYPE=image/jpeg:https://www.wispro.org/wp-content/uploads/2026/03/Defense-Industry-Day-2026.jpg
END:VEVENT
BEGIN:VEVENT
DTSTART;VALUE=DATE:20260811
DTEND;VALUE=DATE:20260814
DTSTAMP:20260420T045553
CREATED:20260217T191958Z
LAST-MODIFIED:20260217T191958Z
UID:10003686-1786406400-1786665599@www.wispro.org
SUMMARY:NDIA 18th Annual Ground Vehicle Systems Engineering & Technology Symposium (GVSETS)
DESCRIPTION:The NDIA Michigan Chapter presents the 18th Annual Ground Vehicle Systems Engineering & Technology Symposium (GVSETS)! \nGVSETS provides the opportunity for the Ground Systems community to network and share technical research and innovations while discussing capability gaps and modernization needs. With global threats becoming more aggressive and complex\, our nation must implement solutions to ensure our Warfighters have the right tools and solutions for current and future conflicts. The NDIA Michigan Chapter is dedicated to enhancing and modernizing warfighter capabilities\, while helping find solutions for these gaps and needs. \nFor more information\, click here.
URL:https://www.wispro.org/event/ndia-18th-annual-ground-vehicle-systems-engineering-technology-symposium-gvsets/
LOCATION:Novi Suburban Collection Showplace\, 46100 Grand River Ave.\, Novi\, MI\, 48374\, United States
CATEGORIES:In Person Event,Out of State,WPI Partner Events
ATTACH;FMTTYPE=image/jpeg:https://www.wispro.org/wp-content/uploads/2026/02/2026_GVSETS_Banner_v4-2000-e1771355987156.jpg
ORGANIZER;CN="NDIA Michigan":MAILTO:GVSETS@NDIA-Mich.org
END:VEVENT
BEGIN:VEVENT
DTSTART;VALUE=DATE:20261020
DTEND;VALUE=DATE:20261023
DTSTAMP:20260420T045553
CREATED:20260415T160114Z
LAST-MODIFIED:20260415T160114Z
UID:10003820-1792454400-1792713599@www.wispro.org
SUMMARY:MxD Summit 2026
DESCRIPTION:Save the Date: October 20-22\, 2026 \nThis year’s theme: Ready Now: Manufacturing at Mission Speed. \nWe’re bringing together government leaders\, industry executives\, manufacturers\, and technology providers for three days focused on what matters most: deploying proven manufacturing capabilities that strengthen the U.S. industrial base today. \nRegistration opens this summer. \n\nWhat to Expect \nThe U.S. industrial base must deliver scalable manufacturing capabilities today\, not tomorrow. This year’s “Ready Now” summit tackles the barriers head-on with programming designed around critical tracks like deployment and scale\, workforce and capacity\, technology maturity and readiness\, supply chain resilience and more. Be a part of the hands-on problem-solving and high-energy collaborations that drive real outcomes. \nWho Should Attend \nGovernment leaders | Industry executives | Manufacturing practitioners | Technology providers | Supply chain managers | Workforce development leaders | Investors and financial partners \nIf you’re working to strengthen the industrial base and accelerate manufacturing readiness\, this summit is for you. \nYou’ll Walk Away With \n\nActionable solutions to immediate manufacturing challenges\nCritical connections across government\, industry\, and technology providers\nProven strategies from peers who’ve successfully scaled mature technologies\nInsight from U.S. Department of War decision-makers and industry leaders shaping the future of manufacturing\n\nGet Involved \nInterested in supporting via a sponsorship or speaking opportunity? Contact Melanie Mann\, MxD Programs Manager at melanie.mann@mxdusa.org or (312) 281-6875. \nTo learn more\, click here.
URL:https://www.wispro.org/event/mxd-summit-2026/
CATEGORIES:Out of State,WPI Partner Events
ATTACH;FMTTYPE=image/png:https://www.wispro.org/wp-content/uploads/2026/04/2026-Summit-Save-the-Date-Horizantal-1536x857-MxD-e1776268793877.png
END:VEVENT
END:VCALENDAR