BEGIN:VCALENDAR
VERSION:2.0
PRODID:-//Wisconsin Procurement Institute - ECPv6.15.17.1//NONSGML v1.0//EN
CALSCALE:GREGORIAN
METHOD:PUBLISH
X-WR-CALNAME:Wisconsin Procurement Institute
X-ORIGINAL-URL:https://www.wispro.org
X-WR-CALDESC:Events for Wisconsin Procurement Institute
REFRESH-INTERVAL;VALUE=DURATION:PT1H
X-Robots-Tag:noindex
X-PUBLISHED-TTL:PT1H
BEGIN:VTIMEZONE
TZID:America/Chicago
BEGIN:DAYLIGHT
TZOFFSETFROM:-0600
TZOFFSETTO:-0500
TZNAME:CDT
DTSTART:20210314T080000
END:DAYLIGHT
BEGIN:STANDARD
TZOFFSETFROM:-0500
TZOFFSETTO:-0600
TZNAME:CST
DTSTART:20211107T070000
END:STANDARD
BEGIN:DAYLIGHT
TZOFFSETFROM:-0600
TZOFFSETTO:-0500
TZNAME:CDT
DTSTART:20220313T080000
END:DAYLIGHT
BEGIN:STANDARD
TZOFFSETFROM:-0500
TZOFFSETTO:-0600
TZNAME:CST
DTSTART:20221106T070000
END:STANDARD
BEGIN:DAYLIGHT
TZOFFSETFROM:-0600
TZOFFSETTO:-0500
TZNAME:CDT
DTSTART:20230312T080000
END:DAYLIGHT
BEGIN:STANDARD
TZOFFSETFROM:-0500
TZOFFSETTO:-0600
TZNAME:CST
DTSTART:20231105T070000
END:STANDARD
END:VTIMEZONE
BEGIN:VEVENT
DTSTART;TZID=America/Chicago:20220909T110000
DTEND;TZID=America/Chicago:20220909T120000
DTSTAMP:20260425T192854
CREATED:20220822T202118Z
LAST-MODIFIED:20220822T202118Z
UID:10002773-1662721200-1662724800@www.wispro.org
SUMMARY:Cyber Friday: CMMC - Are You Ready?
DESCRIPTION:The Cyber Friday series will continue with the topic\, “CMMC – Are You Ready” on Friday\, September 9 at 11:00 AM. To register\, please click here. \nYou have your System Security Plan\, a Plan of Action\, and have uploaded your DoD Basic Assessment score and associated information into SPRS. These are the core requirements which underpin both the current DoD Basic Assessment requirements and form the foundation for future CMCC requirements. \nThe major differences between the Basic Self-assessment and CMCC are the level of formality applied to the management and administration of the program and the level of detail and discernment employed in conducting either an internal self-assessment for Level 1 and some Level 2 programs and for third-party assessments for all other Level 2 assessments. In all cases\, DoD Suppliers should review their programs as an external reviewer would. \nThe key questions that this webinar will address are: \n\nWhat does that really mean?\nHow does a company successfully adopt the appropriate mindset?\nWhat documentation is required and what is satisfactory level of detail\n\n\nSpeaker: Marc Violante\, Director\, Federal Market Strategies\, Wisconsin Procurement Institute \nFor the full schedule of the Cyber Friday webinars\, please click here. \nThis webinar is eligible for 1 CPE credit. \n 
URL:https://www.wispro.org/event/cyber-friday-cmmc-are-you-ready/
CATEGORIES:Virtual Event/ Webinar,WPI Events
ORGANIZER;CN="Jack L.":MAILTO:JackL@wispro.org
END:VEVENT
BEGIN:VEVENT
DTSTART;TZID=America/Chicago:20220913T130000
DTEND;TZID=America/Chicago:20220913T140000
DTSTAMP:20260425T192854
CREATED:20220607T015703Z
LAST-MODIFIED:20220607T015703Z
UID:10002749-1663074000-1663077600@www.wispro.org
SUMMARY:Acquisition Hour: The Procurement Integrated Enterprise Environment (PIEE) Part 2 - Other Modules
DESCRIPTION:The Procurement Integrated Enterprise Environment (PIEE) is the primary enterprise procure-to-pay (P2P) application for the Department of Defense and its supporting agencies and is trusted by companies reporting over $7.1 billion in spending. The PIEE suite evolves continually\, and DOD contractors must understand how its features support their contract administration process. Click here to register. \nPIEE applications include: \n\nWide Area Workflow (WAWF) and MyInvoice\nGovernment Furnished Property (GFP)\nSupplier Performance Risk System (SPRS)\nSolicitation\nContracting Communication Module\n\nPart 1 focused on WAWF and MyInvoice\, part 2 will provide an overview of several other important PIEE applications and explain how using the suite effectively can help you in the DOD contracting process. \nPart 1 in this webinar miniseries on PIEE took place on July 12\, 2022. Registration is available at this link – The Procurement Integrated Enterprise Environment (PIEE) Part 1 – Wide Area Workflow (WAWF) (wispro.org). \n\nSpeaker: Benjamin Blanc\, Government Contract Specialist\, Wisconsin Procurement Institute \nThis webinar is eligible for 1 CPE credit. \nView a schedule of all upcoming Acquisition Hour webinars. \n  \n\n 
URL:https://www.wispro.org/event/acquisition-hour-the-procurement-integrated-enterprise-environment-piee-part-2-other-modules/
CATEGORIES:Virtual Event/ Webinar,WPI Events
ORGANIZER;CN="Jack L.":MAILTO:JackL@wispro.org
END:VEVENT
BEGIN:VEVENT
DTSTART;TZID=America/Chicago:20220921T130000
DTEND;TZID=America/Chicago:20220921T140000
DTSTAMP:20260425T192854
CREATED:20220831T221059Z
LAST-MODIFIED:20220831T221059Z
UID:10002787-1663765200-1663768800@www.wispro.org
SUMMARY:Acquisition Hour: Government Furnished Property
DESCRIPTION:The next Acquisition Hour on\, “Government Furnished Property” will be held on Wednesday\, September 21 at 1:00 PM. To register\, please click here. \nAs a contractor to the Federal Government or a subcontractor to a prime contractor\, you may receive government property. Government property generally falls into one of several categories: (1) material; (2) special tooling; (3) test equipment; (4) property designed for military operations; and (5) facilities used for production\, maintenance\, research\, development\, or test purposes. \nThe contractor has defined obligations in the use and management of the property.  An unfavorable assessment by the government of a contractor’s Property Management System may result in financial penalties.  Also\, there are costs associated with government property management that must be considered by a prime or a subcontractor. \nThis webinar will cover: \n\nGovernment Property clauses\nHow to apply the clauses\nWhat tools/ processes must be in place before you are able to receive government property\n\n\nSpeaker: Benjamin Blanc\, Government Contract Specialist\, Wisconsin Procurement Institute \nThis webinar is eligible for 1 CPE credit. \nView a schedule of all upcoming Acquisition Hour webinars. \n 
URL:https://www.wispro.org/event/acquisition-hour-government-furnished-property/
CATEGORIES:Virtual Event/ Webinar,WPI Events
ORGANIZER;CN="Jack L.":MAILTO:JackL@wispro.org
END:VEVENT
BEGIN:VEVENT
DTSTART;TZID=America/Chicago:20220923T110000
DTEND;TZID=America/Chicago:20220923T120000
DTSTAMP:20260425T192854
CREATED:20220822T203533Z
LAST-MODIFIED:20220822T203533Z
UID:10002774-1663930800-1663934400@www.wispro.org
SUMMARY:Cyber Friday - CMMC: DFARS 252.204-7012; Information Security - Similarities and Differences
DESCRIPTION:The Cyber Friday series will continue with the topic\, “CMMC DRAFS 252.204-7012; Information Security – Similarities and Differences” on Friday\, September 23 at 11:00 AM. To register\, please click here. \nA CMMC L1 or L2 certification does not guarantee compliance with all DFARS 252.204-7012 requirements and does not guarantee that a company will correctly handle other categories of information such as ITAR or JCP. The same is true about ITAR and CMMC. A fully functional ITAR compliance program will not begin to satisfy CMMC requirements. Ultimately\, for each company to correctly handle different categories of information requires that they first know what information they are receiving and handling. Secondly\, each company must have a detailed knowledge and understanding of each of the programs and program requirements. \nThis webinar will provide a top-level overview of the major categories of information and key differences between them. \n\nSpeaker: Marc Violante\, Director\, Federal Market Strategies\, Wisconsin Procurement Institute \nFor the full schedule of the Cyber Friday webinars\, please click here. \nThis webinar is eligible for 1 CPE credit. \n 
URL:https://www.wispro.org/event/cyber-friday-cmmc-dfars-252-204-7012-information-security-similarities-and-differences/
CATEGORIES:Virtual Event/ Webinar,WPI Events
ORGANIZER;CN="Jack L.":MAILTO:JackL@wispro.org
END:VEVENT
BEGIN:VEVENT
DTSTART;TZID=America/Chicago:20220927T090000
DTEND;TZID=America/Chicago:20220927T120000
DTSTAMP:20260425T192854
CREATED:20220803T023557Z
LAST-MODIFIED:20220803T023557Z
UID:10002768-1664269200-1664280000@www.wispro.org
SUMMARY:The Contracting Academy (TCA) - Virtual - Selling to the State of Wisconsin
DESCRIPTION:Registration is now OPEN – CLICK to register to TCA! \nVisit the full conference page for detailed updates on agenda\, speakers\, registration\, and more. \nThe Contracting Academy will take place on September 27\, 2022\, from 9:00 AM – 12:00 NOON. \n  \nAGENDA \n9-10 AM – State of Wisconsin Goods & Services \n\n\n\nTondra Davis\, Director\, State of Wisconsin Supplier Diversity Program\nJessica Potter\, Section Chief for Resources & Special Programs\, Wisconsin State Bureau of Procurement\nSaul Arteaga\, Director\, SWITS Ltd.\n\n\n\n10-11 AM – State of Wisconsin Construction\, A/E & Related Services \n\n\n\nAudra Jervey\, Enterprise Contract Officer\, State of Wisconsin Department of Administration\nMatt Klaila\, Program and Policy Analyst (DFDM)\, State of Wisconsin Department of Administration\nClifton Phelps\, Vice President-Business Development\, JCP Construction\n\n\n\n11-12 AM – Wisconsin Department of Transportation (WisDOT) \n\n\n\nElizabeth Garland\, Section Chief for Purchasing\, Wisconsin Department of Transportation\nJohn Remy\, Purchasing Agent\, Wisconsin Department of Transportation\n\n\n\n  \nClick HERE to view individual speakers’ bios. \n\n 
URL:https://www.wispro.org/event/save-the-date-the-contracting-academy-tca-virtual/
CATEGORIES:Conference,Virtual Event/ Webinar,WPI Events
ATTACH;FMTTYPE=image/png:https://www.wispro.org/wp-content/uploads/2024/03/TCA-White.png
ORGANIZER;CN="Michael Steger":MAILTO:michaels@wispro.org
END:VEVENT
END:VCALENDAR