BEGIN:VCALENDAR
VERSION:2.0
PRODID:-//Wisconsin Procurement Institute - ECPv6.15.17.1//NONSGML v1.0//EN
CALSCALE:GREGORIAN
METHOD:PUBLISH
X-WR-CALNAME:Wisconsin Procurement Institute
X-ORIGINAL-URL:https://www.wispro.org
X-WR-CALDESC:Events for Wisconsin Procurement Institute
REFRESH-INTERVAL;VALUE=DURATION:PT1H
X-Robots-Tag:noindex
X-PUBLISHED-TTL:PT1H
BEGIN:VTIMEZONE
TZID:America/Chicago
BEGIN:DAYLIGHT
TZOFFSETFROM:-0600
TZOFFSETTO:-0500
TZNAME:CDT
DTSTART:20220313T080000
END:DAYLIGHT
BEGIN:STANDARD
TZOFFSETFROM:-0500
TZOFFSETTO:-0600
TZNAME:CST
DTSTART:20221106T070000
END:STANDARD
BEGIN:DAYLIGHT
TZOFFSETFROM:-0600
TZOFFSETTO:-0500
TZNAME:CDT
DTSTART:20230312T080000
END:DAYLIGHT
BEGIN:STANDARD
TZOFFSETFROM:-0500
TZOFFSETTO:-0600
TZNAME:CST
DTSTART:20231105T070000
END:STANDARD
BEGIN:DAYLIGHT
TZOFFSETFROM:-0600
TZOFFSETTO:-0500
TZNAME:CDT
DTSTART:20240310T080000
END:DAYLIGHT
BEGIN:STANDARD
TZOFFSETFROM:-0500
TZOFFSETTO:-0600
TZNAME:CST
DTSTART:20241103T070000
END:STANDARD
END:VTIMEZONE
BEGIN:VEVENT
DTSTART;TZID=America/Chicago:20230301T110000
DTEND;TZID=America/Chicago:20230301T120000
DTSTAMP:20260425T104100
CREATED:20221222T024013Z
LAST-MODIFIED:20221222T024013Z
UID:10002828-1677668400-1677672000@www.wispro.org
SUMMARY:Acquisition Hour: Service Contracts with Federal Agencies - Virtual
DESCRIPTION:Do you currently have or are you considering bidding on a federal contract for transportation\, janitorial\, lawn mowing\, catering\, repair/maintenance or similar services? If you answered yes\, then you may have or will be bidding for a SERVICE CONTRACT. \nUnder a service contract\, contractors have additional requirements and obligations. This webinar will help you learn what you need to know to be compliant to these specific contract terms and conditions. Join us this webinar as we discuss the ins and outs of Service Contracts. \nThis webinar will cover:\n• General Information\n• Performance Based Acquisitions\n• Statement of Work\n• Service Contract Labor Standards Act\n• Department of Labor (DOL) Wage Determinations \nSpeaker: Carol Murphy\, Government Contract Specialist\, Wisconsin Procurement Institute (WPI)\, an APEX ACCELERATOR \nThis webinar is eligible for 1 CPE credit.\nView a schedule of all upcoming Acquisition Hour webinars.
URL:https://www.wispro.org/event/acquisition-hour-service-contracts-with-federal-agencies/
CATEGORIES:Virtual Event/ Webinar,WPI Events
ORGANIZER;CN="Jack L.":MAILTO:JackL@wispro.org
END:VEVENT
BEGIN:VEVENT
DTSTART;TZID=America/Chicago:20230307T180000
DTEND;TZID=America/Chicago:20230307T193000
DTSTAMP:20260425T104100
CREATED:20220831T012321Z
LAST-MODIFIED:20220831T012321Z
UID:10002781-1678212000-1678217400@www.wispro.org
SUMMARY:10th Annual FAR Evening Webinar and Study Group Session 5: FAR Parts 19-29 - Virtual
DESCRIPTION:The Wisconsin Procurement Institute (WPI) and the National Contract Management Association (NCMA) – Wisconsin Chapter will be presenting the webinar\, “10th Annual FAR Evening Webinar and Study Group Session 5: FAR Parts 19-29” on March 7 from 6:00 – 7:30 PM. This session is part of the 10th annual FAR Evening Sessions. To register\, please click here. \nThe FAR Evening Sessions are designed specifically for current Federal contractors. In addition\, these sessions will help you prepare for the NCMA CFCM certification exam. \n-FAR 19: Small Business Programs \n-FAR 20: Reserved \n-FAR 21: Reserved \n-FAR 22: Application of Labor Laws to Government Acquisitions \n-FAR 23: Environment\, Energy\, and Water Efficiency\, Renewable Energy Technologies\, Occupational Safety\, and Drug-Free Workplace \n-FAR 24: Protection of Privacy and Freedom of Information \n-FAR 25: Foreign Acquisition \n-FAR 26: Other Socioeconomic Programs \n-FAR 27: Patents\, Data\, and Copyrights \n-FAR 28: Bonds and Insurance \n-FAR 29: Taxes \n\nSpeaker: \n\nDaryl G. Zahn\, CFCM\, Senior Manager\, Contracts and Compliance\, Leonardo DRS\nBen Blanc\, Government Contract Specialist\, Wisconsin Procurement Institute (WPI)\, an APEX ACCELERATOR\n\nThis webinar is eligible for 1.5 CPE credit. \nFor a full schedule of the FAR sessions\, please click here. \n  \n\n 
URL:https://www.wispro.org/event/10th-annual-far-evening-webinar-and-study-group-session-5-far-parts-19-29/
CATEGORIES:Virtual Event/ Webinar,WPI Events
ATTACH;FMTTYPE=image/png:https://www.wispro.org/wp-content/uploads/2024/03/FAR-Evening-Session-Logo.png
ORGANIZER;CN="Jack L.":MAILTO:JackL@wispro.org
END:VEVENT
BEGIN:VEVENT
DTSTART;TZID=America/Chicago:20230308T130000
DTEND;TZID=America/Chicago:20230308T140000
DTSTAMP:20260425T104100
CREATED:20221222T024331Z
LAST-MODIFIED:20221222T024331Z
UID:10002829-1678280400-1678284000@www.wispro.org
SUMMARY:Acquisition Hour: ESRS Individual Subcontractor Reporting (ISR) Basics - Virtual
DESCRIPTION:The eSRS ISR report collects prime contractor and subcontractor subcontract award data for a specific Federal Government agency when a Prime/Subcontractor \n(a) holds one or more contracts over $750\,000 (over $1\,500\,000 for construction of a public facility); and \n(b) is required to report subcontracts awarded to Small Business (SB)\, Small Disadvantaged Business (SDB)\, Women-Owned Small Business (WOSB)\, HUBZone Small Business (HUBZone SB)\, Veteran-Owned Small Business (VOSB)\, Service-Disabled Veteran-Owned Small Business (SDVOSB)\, Alaskan Native Corporations (ANC) and Indian Tribes concerns under a subcontracting plan with the Federal Government. \nThis webinar will provide:\n· The basics of submitting an ISR\n· The basics of filing a Summary with the electronic Subcontracting Reporting System (eSRS)\n· Assistance to first time Small Business Liaison Officers (SBLO)\n· A refresher for newer SBLOs \nSpeaker: Kim Garber\, Director\, Small Business Programs\, Wisconsin Procurement Institute (WPI)\, an APEX ACCELERATOR \nThis webinar is eligible for 1 CPE credit.\nView a schedule of all upcoming Acquisition Hour webinars.
URL:https://www.wispro.org/event/acquisition-hour-esrs-individual-subcontractor-reporting-isr-basics-3/
CATEGORIES:Virtual Event/ Webinar,WPI Events
ORGANIZER;CN="Jack L.":MAILTO:JackL@wispro.org
END:VEVENT
BEGIN:VEVENT
DTSTART;TZID=America/Chicago:20230310T110000
DTEND;TZID=America/Chicago:20230310T120000
DTSTAMP:20260425T104100
CREATED:20221223T234236Z
LAST-MODIFIED:20221223T234236Z
UID:10002836-1678446000-1678449600@www.wispro.org
SUMMARY:Cyber Friday: Preparing for a Cyber Incident - Virtual
DESCRIPTION:The current threat environment is robust and planning for any potential breach is necessary to protect your business and National Security interests. We will discuss and provide resources to assist you in the adoption of a capable Incident Response\, Disaster Recovery\, and Configuration Management program. We will also address reporting requirements as laid out by the DFARs in the event of a breach or cyber incident. \nSpeaker: Matt Frost\, Government Contract Specialist\, Wisconsin Procurement Institute (WPI)\, an APEX ACCELERATOR \nFor the full schedule of the Cyber Friday webinars\, please click here.\nThis webinar is eligible for 1 CPE credit.
URL:https://www.wispro.org/event/cyber-friday-preparing-for-a-cyber-incident/
CATEGORIES:Virtual Event/ Webinar,WPI Events
ORGANIZER;CN="Jack L.":MAILTO:JackL@wispro.org
END:VEVENT
BEGIN:VEVENT
DTSTART;TZID=America/Chicago:20230314T180000
DTEND;TZID=America/Chicago:20230314T193000
DTSTAMP:20260425T104100
CREATED:20220831T012913Z
LAST-MODIFIED:20220831T012913Z
UID:10002782-1678816800-1678822200@www.wispro.org
SUMMARY:10th Annual FAR Evening Webinar and Study Group Session 6: FAR Parts 30-33 - Virtual
DESCRIPTION:The Wisconsin Procurement Institute (WPI) and the National Contract Management Association (NCMA) – Wisconsin Chapter will be presenting the webinar\, “10th Annual FAR Evening Webinar and Study Group Session 6: FAR Parts 30-33” on March 14 from 6:00 – 7:30 PM. This session is part of the 10th annual FAR Evening Sessions. To register\, please click here. \nThe FAR Evening Sessions are designed specifically for current Federal contractors. In addition\, these sessions will help you prepare for the NCMA CFCM certification exam. \n-FAR 30: Cost Accounting Standards Administration \n-FAR 31: Contract Cost Principles and Procedures \n-FAR 32: Contract Financing \n-FAR 33: Protests\, Disputes\, and Appeals \n\nSpeakers: \n\nJason Rathsack\, Senior Contract Specialist\, Defense Contract Management Agency\n\nThis webinar is eligible for 1.5 CPE credit. \nFor a full schedule of the FAR sessions\, please click here. \n  \n\n 
URL:https://www.wispro.org/event/10th-annual-far-evening-webinar-and-study-group-session-6-far-parts-30-33/
CATEGORIES:Virtual Event/ Webinar,WPI Events
ATTACH;FMTTYPE=image/png:https://www.wispro.org/wp-content/uploads/2024/03/FAR-Evening-Session-Logo.png
ORGANIZER;CN="Jack L.":MAILTO:JackL@wispro.org
END:VEVENT
BEGIN:VEVENT
DTSTART;TZID=America/Chicago:20230321T180000
DTEND;TZID=America/Chicago:20230321T193000
DTSTAMP:20260425T104100
CREATED:20220831T013056Z
LAST-MODIFIED:20220831T013056Z
UID:10002783-1679421600-1679427000@www.wispro.org
SUMMARY:10th Annual FAR Evening Webinar and Study Group Session 7: FAR Parts 34-41 - Virtual
DESCRIPTION:The Wisconsin Procurement Institute (WPI) and the National Contract Management Association (NCMA) – Wisconsin Chapter will be presenting the webinar\, “10th Annual FAR Evening Webinar and Study Group Session 7: FAR Parts 34-41” on March 21 from 6:00 – 7:30 PM. This session is part of the 10th annual FAR Evening Sessions. To register\, please click here. \nThe FAR Evening Sessions are designed specifically for current Federal contractors. In addition\, these sessions will help you prepare for the NCMA CFCM certification exam. \n-FAR 34: Major System Acquisition \n-FAR 35: Research and Development Contracting \n-FAR 36: Construction and Architect-Engineer Contracts \n-FAR 37: Service Contracting \n-FAR 38: Federal Supply Schedule Contracting \n-FAR 39: Acquisition of Information Technology \n-FAR 40:  Reserved \n-FAR 41: Acquisition of Utility Services \n\nSpeaker: \n\nDaryl G. Zahn\, CFCM\, Senior Manager\, Contracts and Compliance\, Leonardo DRS\n\nThis webinar is eligible for 1.5 CPE credit. \nFor a full schedule of the FAR sessions\, please click here. \n  \n\n 
URL:https://www.wispro.org/event/10th-annual-far-evening-webinar-and-study-group-session-7-far-parts-34-41/
CATEGORIES:Virtual Event/ Webinar,WPI Events
ATTACH;FMTTYPE=image/png:https://www.wispro.org/wp-content/uploads/2024/03/FAR-Evening-Session-Logo.png
ORGANIZER;CN="Jack L.":MAILTO:JackL@wispro.org
END:VEVENT
BEGIN:VEVENT
DTSTART;TZID=America/Chicago:20230324T110000
DTEND;TZID=America/Chicago:20230324T120000
DTSTAMP:20260425T104100
CREATED:20221223T234609Z
LAST-MODIFIED:20221223T234609Z
UID:10002837-1679655600-1679659200@www.wispro.org
SUMMARY:Cyber Friday: Protecting the Data - Virtual
DESCRIPTION:Some of the more difficult requirements in NIST SP 800-171 and CMMC are those that handle data security – in particular those based around encryption. We will discuss the origin of government encryption requirements\, the importance of scoping and how to correctly scope your data encryption responsibilities. We will discuss how to find solutions that meet the government standard. \nSpeaker: Matt Frost\, Government Contract Specialist\, Wisconsin Procurement Institute (WPI)\, an APEX ACCELERATOR \nFor the full schedule of the Cyber Friday webinars\, please click here.\nThis webinar is eligible for 1 CPE credit.
URL:https://www.wispro.org/event/cyber-friday-protecting-the-data/
CATEGORIES:Virtual Event/ Webinar,WPI Events
ORGANIZER;CN="Jack L.":MAILTO:JackL@wispro.org
END:VEVENT
BEGIN:VEVENT
DTSTART;TZID=America/Chicago:20230328T180000
DTEND;TZID=America/Chicago:20230328T193000
DTSTAMP:20260425T104100
CREATED:20220831T013303Z
LAST-MODIFIED:20220831T013303Z
UID:10002784-1680026400-1680031800@www.wispro.org
SUMMARY:10th Annual FAR Evening Webinar and Study Group Session 8: FAR Parts 42-53 - Virtual
DESCRIPTION:The Wisconsin Procurement Institute (WPI) and the National Contract Management Association (NCMA) – Wisconsin Chapter will be presenting the webinar\, “10th Annual FAR Evening Webinar and Study Group Session 8: FAR Parts 42-53” on March 28 from 6:00 – 7:30 PM. This session is part of the 10th annual FAR Evening Sessions. To register\, please click here. \nThe FAR Evening Sessions are designed specifically for current Federal contractors. In addition\, these sessions will help you prepare for the NCMA CFCM certification exam. \n-FAR 42: Contract Administration and Audit Services \n-FAR 43: Contract Modifications \n-FAR 44: Subcontracting Policies and Procedures \n-FAR 45: Government Property \n-FAR 46: Quality Assurance \n-FAR 47: Transportation \n-FAR 48: Value Engineering \n-FAR 49: Termination of Contracts \n-FAR 50: Extraordinary Contractual Actions and the safety act \n-FAR 51: Use of Government Sources by Contractors \n-FAR 52: Solicitation Provisions and Contract Clauses \n-FAR 53: Forms \n\nSpeaker: \n\nJason Rathsack\, Senior Contract Specialist\, Defense Contract Management Agency\n\nThis webinar is eligible for 1.5 CPE credit. \nFor a full schedule of the FAR sessions\, please click here. \n  \n\n 
URL:https://www.wispro.org/event/10th-annual-far-evening-webinar-and-study-group-session-8-far-parts-42-53/
CATEGORIES:Virtual Event/ Webinar,WPI Events
ATTACH;FMTTYPE=image/png:https://www.wispro.org/wp-content/uploads/2024/03/FAR-Evening-Session-Logo.png
ORGANIZER;CN="Jack L.":MAILTO:JackL@wispro.org
END:VEVENT
END:VCALENDAR