BEGIN:VCALENDAR
VERSION:2.0
PRODID:-//Wisconsin Procurement Institute - ECPv6.15.17.1//NONSGML v1.0//EN
CALSCALE:GREGORIAN
METHOD:PUBLISH
X-ORIGINAL-URL:https://www.wispro.org
X-WR-CALDESC:Events for Wisconsin Procurement Institute
REFRESH-INTERVAL;VALUE=DURATION:PT1H
X-Robots-Tag:noindex
X-PUBLISHED-TTL:PT1H
BEGIN:VTIMEZONE
TZID:America/Chicago
BEGIN:DAYLIGHT
TZOFFSETFROM:-0600
TZOFFSETTO:-0500
TZNAME:CDT
DTSTART:20220313T080000
END:DAYLIGHT
BEGIN:STANDARD
TZOFFSETFROM:-0500
TZOFFSETTO:-0600
TZNAME:CST
DTSTART:20221106T070000
END:STANDARD
BEGIN:DAYLIGHT
TZOFFSETFROM:-0600
TZOFFSETTO:-0500
TZNAME:CDT
DTSTART:20230312T080000
END:DAYLIGHT
BEGIN:STANDARD
TZOFFSETFROM:-0500
TZOFFSETTO:-0600
TZNAME:CST
DTSTART:20231105T070000
END:STANDARD
BEGIN:DAYLIGHT
TZOFFSETFROM:-0600
TZOFFSETTO:-0500
TZNAME:CDT
DTSTART:20240310T080000
END:DAYLIGHT
BEGIN:STANDARD
TZOFFSETFROM:-0500
TZOFFSETTO:-0600
TZNAME:CST
DTSTART:20241103T070000
END:STANDARD
END:VTIMEZONE
BEGIN:VEVENT
DTSTART;TZID=America/Chicago:20230405T110000
DTEND;TZID=America/Chicago:20230405T120000
DTSTAMP:20260425T090544
CREATED:20221222T024651Z
LAST-MODIFIED:20221222T024651Z
UID:10002831-1680692400-1680696000@www.wispro.org
SUMMARY:Acquisition Hour: Overview of Contractor Performance Assessment Reporting System (CPARS) - Virtual
DESCRIPTION:Past Performance will impact future contract awards. As a Federal Contractor it is critical for you to understand the Contractor Performance Assessment Reporting System (CPARS)\, which collects and maintains Contractor’s Past Performance Information. Past performance is now included in the selection criteria in Government contracts. \nIt is essential for the Contractor to review the comments and ratings for timeliness and accuracy. Contractors should be aware that there may be an opportunity to modify results with the assessing official and possibly shape the performance evaluation. Understanding the process and management of your CPARS record will support a stronger past performance evaluation of your next bid or proposal. \nSpeaker: Carol Murphy\, Government Contract Specialist\, Wisconsin Procurement Institute (WPI)\, an APEX ACCELERATOR\nThis webinar is eligible for 1 CPE credit.\nView a schedule of all upcoming Acquisition Hour webinars.
URL:https://www.wispro.org/event/acquisition-hour-overview-of-cpars-5/
CATEGORIES:Virtual Event/ Webinar,WPI Events
ORGANIZER;CN="Jack L.":MAILTO:JackL@wispro.org
END:VEVENT
BEGIN:VEVENT
DTSTART;TZID=America/Chicago:20230414T110000
DTEND;TZID=America/Chicago:20230414T120000
DTSTAMP:20260425T090544
CREATED:20221223T234806Z
LAST-MODIFIED:20221223T234806Z
UID:10002838-1681470000-1681473600@www.wispro.org
SUMMARY:Cyber Friday: The Forensic Record - Virtual
DESCRIPTION:A key component to a strong cyber security program is a robust\, and readily reviewed\, log management strategy. We’ll discuss what logs do\, where they’re stored\, and the recommended configurations of logs within the CUI environment. This will provide more clear guidance on how to have your IT configurations updated for your success. \nSpeaker: Matt Frost\, Government Contract Specialist\, Wisconsin Procurement Institute (WPI)\, an APEX ACCELERATOR\nFor the full schedule of the Cyber Friday webinars\, please click here.\nThis webinar is eligible for 1 CPE credit.
URL:https://www.wispro.org/event/cyber-friday-the-forensic-record/
CATEGORIES:Virtual Event/ Webinar,WPI Events
ORGANIZER;CN="Jack L.":MAILTO:JackL@wispro.org
END:VEVENT
BEGIN:VEVENT
DTSTART;TZID=America/Chicago:20230419T130000
DTEND;TZID=America/Chicago:20230419T140000
DTSTAMP:20260425T090544
CREATED:20221222T024919Z
LAST-MODIFIED:20221222T024919Z
UID:10002832-1681909200-1681912800@www.wispro.org
SUMMARY:Acquisition Hour: No-Cost Federal Market Research Tools: SAM.gov\, DSBS\, and USA Spending - Virtual
DESCRIPTION:Successful contractors do their homework – or their market research. They determine who at the agency is buying\, how they are buying\, when they will be buying\, how much they have procured in the past\, what they are currently buying and what they will be buying in the future. They also know who holds current contracts and who they will be competing against for current and future requirements. \nThis workshop will teach you how to do your own government market research using various online tools that are available to you at no cost. \nWho should attend: Any business determining if the government market is a good fit for their business\, or businesses that want to learn how to better focus their government market efforts. \nSpeaker: Kim Garber\, Director\, Small Business Programs\, Wisconsin Procurement Institute (WPI)\, an APEX ACCELERATOR\nThis webinar is eligible for 1 CPE credit.\nView a schedule of all upcoming Acquisition Hour webinars.
URL:https://www.wispro.org/event/acquisition-hour-no-cost-federal-market-research-tools-sam-gov-dsbs-and-usa-spending/
CATEGORIES:Virtual Event/ Webinar,WPI Events
ORGANIZER;CN="Jack L.":MAILTO:JackL@wispro.org
END:VEVENT
BEGIN:VEVENT
DTSTART;TZID=America/Chicago:20230428T110000
DTEND;TZID=America/Chicago:20230428T120000
DTSTAMP:20260425T090544
CREATED:20221223T235023Z
LAST-MODIFIED:20221223T235023Z
UID:10002321-1682679600-1682683200@www.wispro.org
SUMMARY:Cyber Friday: Culture of Security - Virtual
DESCRIPTION:The NIST Risk Management Framework cannot be implemented correctly without a holistic\, cultural adoption of certain security concepts. It should be practiced continuously within your organization. We’ll discuss this Risk Management Framework and provide guidance of what implementation can look like within your organization in order to meet the annual NIST/CMMC requirements and strengthen your organization’s security posture. \nSpeaker: Matt Frost\, Government Contract Specialist\, Wisconsin Procurement Institute (WPI)\, an APEX ACCELERATOR\nFor the full schedule of the Cyber Friday webinars\, please click here.\nThis webinar is eligible for 1 CPE credit.
URL:https://www.wispro.org/event/cyber-friday-culture-of-security/
CATEGORIES:Virtual Event/ Webinar,WPI Events
ORGANIZER;CN="Jack L.":MAILTO:JackL@wispro.org
END:VEVENT
END:VCALENDAR