BEGIN:VCALENDAR
VERSION:2.0
PRODID:-//Wisconsin Procurement Institute - ECPv6.15.17.1//NONSGML v1.0//EN
CALSCALE:GREGORIAN
METHOD:PUBLISH
X-WR-CALNAME:Wisconsin Procurement Institute
X-ORIGINAL-URL:https://www.wispro.org
X-WR-CALDESC:Events for Wisconsin Procurement Institute
REFRESH-INTERVAL;VALUE=DURATION:PT1H
X-Robots-Tag:noindex
X-PUBLISHED-TTL:PT1H
BEGIN:VTIMEZONE
TZID:America/Chicago
BEGIN:DAYLIGHT
TZOFFSETFROM:-0600
TZOFFSETTO:-0500
TZNAME:CDT
DTSTART:20220313T080000
END:DAYLIGHT
BEGIN:STANDARD
TZOFFSETFROM:-0500
TZOFFSETTO:-0600
TZNAME:CST
DTSTART:20221106T070000
END:STANDARD
BEGIN:DAYLIGHT
TZOFFSETFROM:-0600
TZOFFSETTO:-0500
TZNAME:CDT
DTSTART:20230312T080000
END:DAYLIGHT
BEGIN:STANDARD
TZOFFSETFROM:-0500
TZOFFSETTO:-0600
TZNAME:CST
DTSTART:20231105T070000
END:STANDARD
BEGIN:DAYLIGHT
TZOFFSETFROM:-0600
TZOFFSETTO:-0500
TZNAME:CDT
DTSTART:20240310T080000
END:DAYLIGHT
BEGIN:STANDARD
TZOFFSETFROM:-0500
TZOFFSETTO:-0600
TZNAME:CST
DTSTART:20241103T070000
END:STANDARD
END:VTIMEZONE
BEGIN:VEVENT
DTSTART;TZID=America/Chicago:20230606T130000
DTEND;TZID=America/Chicago:20230606T140000
DTSTAMP:20260425T054303
CREATED:20221222T025300Z
LAST-MODIFIED:20221222T025300Z
UID:10002833-1686056400-1686060000@www.wispro.org
SUMMARY:Acquisition Hour: Government Furnished Property
DESCRIPTION:As a contractor to the Federal Government or a subcontractor to a prime contractor\, you may receive government property. Government property generally falls into one of several categories: (1) material; (2) special tooling; (3) test equipment; (4) property designed for military operations; and (5) facilities used for production\, maintenance\, research\, development\, or test purposes. \nThe contractor has defined obligations in the use and management of the property. An unfavorable assessment by the government of a contractor’s Property Management System may result in financial penalties. Also\, there are costs associated with government property management that must be considered by a prime or a subcontractor. \nThis webinar will cover:\n· Government Property clauses\n· How to apply the clauses\n· What tools/ processes must be in place before you are able to receive government property \nSpeaker: Benjamin Blanc\, Government Contract Specialist\, Wisconsin Procurement Institute\nThis webinar is eligible for 1 CPE credit.\nView a schedule of all upcoming Acquisition Hour webinars.
URL:https://www.wispro.org/event/acquisition-hour-government-furnished-property-2/
CATEGORIES:Virtual Event/ Webinar,WPI Events
ATTACH;FMTTYPE=image/png:https://www.wispro.org/wp-content/uploads/2024/02/Acquisition-Hour-APEX-Logo.png
ORGANIZER;CN="Jack L.":MAILTO:JackL@wispro.org
END:VEVENT
END:VCALENDAR