BEGIN:VCALENDAR
VERSION:2.0
PRODID:-//Wisconsin Procurement Institute - ECPv6.15.17.1//NONSGML v1.0//EN
CALSCALE:GREGORIAN
METHOD:PUBLISH
X-WR-CALNAME:Wisconsin Procurement Institute
X-ORIGINAL-URL:https://www.wispro.org
X-WR-CALDESC:Events for Wisconsin Procurement Institute
REFRESH-INTERVAL;VALUE=DURATION:PT1H
X-Robots-Tag:noindex
X-PUBLISHED-TTL:PT1H
BEGIN:VTIMEZONE
TZID:America/Chicago
BEGIN:DAYLIGHT
TZOFFSETFROM:-0600
TZOFFSETTO:-0500
TZNAME:CDT
DTSTART:20220313T080000
END:DAYLIGHT
BEGIN:STANDARD
TZOFFSETFROM:-0500
TZOFFSETTO:-0600
TZNAME:CST
DTSTART:20221106T070000
END:STANDARD
BEGIN:DAYLIGHT
TZOFFSETFROM:-0600
TZOFFSETTO:-0500
TZNAME:CDT
DTSTART:20230312T080000
END:DAYLIGHT
BEGIN:STANDARD
TZOFFSETFROM:-0500
TZOFFSETTO:-0600
TZNAME:CST
DTSTART:20231105T070000
END:STANDARD
BEGIN:DAYLIGHT
TZOFFSETFROM:-0600
TZOFFSETTO:-0500
TZNAME:CDT
DTSTART:20240310T080000
END:DAYLIGHT
BEGIN:STANDARD
TZOFFSETFROM:-0500
TZOFFSETTO:-0600
TZNAME:CST
DTSTART:20241103T070000
END:STANDARD
END:VTIMEZONE
BEGIN:VEVENT
DTSTART;TZID=America/Chicago:20230905T130000
DTEND;TZID=America/Chicago:20230905T140000
DTSTAMP:20260421T002020
CREATED:20230808T014528Z
LAST-MODIFIED:20230808T014528Z
UID:10002913-1693918800-1693922400@www.wispro.org
SUMMARY:Acquisition Hour: Certifications for Woman Owned Businesses
DESCRIPTION:Woman-owned businesses can receive advantages when selling to various Public and Private entities. In most cases\, a certification process must be completed to qualify. It is important for business to understand the certification requirements and the potential benefits to their business prior to investing their time and resources in the certification process. \nThis webinar will provide an overview of these programs\, application process\, describe eligibility requirements as well as the benefits and obligations for certifications with: \n· Federal Government agencies \n· State Government agencies (including WisDOT and State of Wisconsin) \n· Local Government agencies (including Milwaukee City and County\, Dane County\, Madison [City]\, MMSD) \n· Corporate (Large business) \nSpeakers: \nShane Mahaffy\, Lead Business Opportunity Specialist\, U.S. Small Business Administration (SBA) \nAlex Ysquierdo\, Director\, Wisconsin Supplier Diversity Program \nTru Mwololo\, Manager\, Small Business Programs\, Wisconsin Procurement Institute (WPI) \n  \nThis webinar is eligible for 1 CPE credit. \nView a schedule of all upcoming Acquisition Hour webinars.
URL:https://www.wispro.org/event/acquisition-hour-certifications-for-woman-owned-businesses-2/
CATEGORIES:Virtual Event/ Webinar,WPI Events
ATTACH;FMTTYPE=image/png:https://www.wispro.org/wp-content/uploads/2024/02/Acquisition-Hour-APEX-Logo.png
ORGANIZER;CN="Jack L.":MAILTO:JackL@wispro.org
END:VEVENT
BEGIN:VEVENT
DTSTART;TZID=America/Chicago:20230906T120000
DTEND;TZID=America/Chicago:20230906T130000
DTSTAMP:20260421T002020
CREATED:20230525T234344Z
LAST-MODIFIED:20230525T234344Z
UID:10002891-1694001600-1694005200@www.wispro.org
SUMMARY:Acquisition Hour: Federal Contracting - Contract Methods and Types of Contracts
DESCRIPTION:In Federal Government contracting\, there are various contract methods and numerous types of federal contracts. It is important for the contractor to understand both when submitting a bid / proposal to the Federal Government.  The contract method impacts what offerors should submit and how the government selects the awardee.  The type of contract can affect how much a contractor is paid\, risk allocation on cost overruns\, and the contractual obligations of the contractor and the government. \n  \nThis webinar will cover: \n\nSealed Bidding\nCompetitive Negotiations\nSimplified Acquisitions\nFixed Price Contracts\nCost-Reimbursement Contracts\nIndefinite-Delivery Contracts\nTime and Materials/Labor Hour Contracts\, Letter Contracts\, and Basic Ordering Agreements\n\n  \nSpeaker: Carol Murphy\, Government Contract Specialist\, Wisconsin Procurement Institute \nThis webinar is eligible for 1 CPE credit. \nView a schedule of all upcoming Acquisition Hour webinars.
URL:https://www.wispro.org/event/acquisition-hour-federal-contracting-contract-methods-and-types-of-contracts/
CATEGORIES:Virtual Event/ Webinar,WPI Events
ATTACH;FMTTYPE=image/png:https://www.wispro.org/wp-content/uploads/2024/02/Acquisition-Hour-APEX-Logo.png
ORGANIZER;CN="Jack L.":MAILTO:JackL@wispro.org
END:VEVENT
BEGIN:VEVENT
DTSTART;TZID=America/Chicago:20230908T110000
DTEND;TZID=America/Chicago:20230908T120000
DTSTAMP:20260421T002020
CREATED:20230530T233219Z
LAST-MODIFIED:20240326T133505Z
UID:10002899-1694170800-1694174400@www.wispro.org
SUMMARY:Cyber Friday: NIST SP 800.171 - 3.1 – Access Control
DESCRIPTION:If you are currently\, or are planning to be\, a contractor or subcontractor within the Defense Industrial Base (DIB) you must comply with the Defense Federal Acquisition Regulation (DFARS) 252.204-7012. These regulations state that a contractor or subcontractor must implement the National Institute of Standards and Technology (NIST) Special Publication 800-171. To help you know how to comply with these DFAR regulations\, this series of webinars will overview the 14 Cybersecurity “Families” and their respective controls. \nIn this webinar we will examine NIST SP 800.171 – 3.1 – Access Control.  Access Control is a critical part of data security and one of the more technical families of security controls. This webinar will review how to assign\, secure\, and properly access CUI (Controlled Unclassified Information) on a Non-Government Information System. \nTopics of discussion include: \n\nAn overview of the concepts and principles critical to access control\nA review of the reference documentation that is essential in evaluating your compliance with these controls\nA review of the controls\, their structure\, and what the federal regulations are asking of you and your company\nA discussion of the different strategies for implementing these controls\n\nSpeaker: Matt Frost\, Government Contract Specialist\, Wisconsin Procurement Institute \nFor the full schedule of the Cyber Friday webinars\, please click here. \nThis webinar is eligible for 1 CPE credit.
URL:https://www.wispro.org/event/cyber-friday-nist-sp-800-171-3-1-access-control/
CATEGORIES:Virtual Event/ Webinar,WPI Events
ORGANIZER;CN="Jack L.":MAILTO:JackL@wispro.org
END:VEVENT
BEGIN:VEVENT
DTSTART;TZID=America/Chicago:20230915T110000
DTEND;TZID=America/Chicago:20230915T120000
DTSTAMP:20260421T002020
CREATED:20230530T233442Z
LAST-MODIFIED:20240326T133522Z
UID:10002900-1694775600-1694779200@www.wispro.org
SUMMARY:Cyber Friday: NIST SP 800.171 - 3.2 – Awareness & Training and 3.3 Audit & Accountability
DESCRIPTION:If you are currently\, or are planning to be\, a contractor or subcontractor within the Defense Industrial Base (DIB) you must comply with the Defense Federal Acquisition Regulation (DFARS) 252.204-7012. These regulations state that a contractor or subcontractor must implement the National Institute of Standards and Technology (NIST) Special Publication 800-171. To help you know how to comply with these DFAR regulations\, this series of webinars will overview the 14 Cybersecurity “Families” and their respective controls. \nIn this webinar we will examine NIST SP 800.171 3.2 – Awareness & Training and 3.3 Audit & Accountability.  The NIST Controls work together to create a holistic approach towards building a security program.  This webinar will review the important requirements assigned towards creating a culture of security through training and having a security-first mindset.  Then\, building from there\, this webinar will additionally review the requirements for verifying behavior within the Information System and creating an appropriate record through Audit and Accountability. \nTopics of discussion include: \n\nAn overview of the concepts and principles critical to awareness & training as well as audit and accountability\nA review of the reference documentation that is essential in evaluating your compliance with these controls\nA review of the controls\, their structure\, and what the federal regulations are asking of you and your company\nA discussion of the different strategies for implementing these controls\n\nSpeaker: Matt Frost\, Government Contract Specialist\, Wisconsin Procurement Institute \nFor the full schedule of the Cyber Friday webinars\, please click here. \nThis webinar is eligible for 1 CPE credit.
URL:https://www.wispro.org/event/cyber-friday-nist-sp-800-171-3-2-awareness-training-and-3-3-audit-accountability/
CATEGORIES:Virtual Event/ Webinar,WPI Events
ORGANIZER;CN="Jack L.":MAILTO:JackL@wispro.org
END:VEVENT
BEGIN:VEVENT
DTSTART;TZID=America/Chicago:20230922T110000
DTEND;TZID=America/Chicago:20230922T120000
DTSTAMP:20260421T002020
CREATED:20230530T233847Z
LAST-MODIFIED:20240326T133543Z
UID:10002901-1695380400-1695384000@www.wispro.org
SUMMARY:Cyber Friday: NIST SP 800.171 - 3.4 Configuration Management and 3.5 Identification & Authentication
DESCRIPTION:If you are currently\, or are planning to be\, a contractor or subcontractor within the Defense Industrial Base (DIB) you must comply with the Defense Federal Acquisition Regulation (DFARS) 252.204-7012. These regulations state that a contractor or subcontractor must implement the National Institute of Standards and Technology (NIST) Special Publication 800-171. To help you know how to comply with these DFAR regulations\, this series of webinars will overview the 14 Cybersecurity “Families” and their respective controls. \nIn this webinar we will examine NIST SP 800.171 3.4 Configuration Management and 3.5 Identification & Authentication. Ensuring you have control over the digital environment and are aware of what resides within it is essential to establishing a baseline through which you can both identify and evaluate security threats as they occur. This control is manifested through your Configuration Management requirements.  This webinar will examine instances on your network where users must authenticate themselves prior to access and how to ensure that all behavior is tied to a unique identifier. \nTopics of discussion include: \n\nAn overview of the concepts and principles critical to configuration management and identification & authentication\nA review of the reference documentation that is essential in evaluating your compliance with these controls\nA review of the controls\, their structure\, and what the federal regulations are asking of you and your company\nA discussion of the different strategies for implementing these controls\n\nSpeaker: Matt Frost\, Government Contract Specialist\, Wisconsin Procurement Institute \nFor the full schedule of the Cyber Friday webinars\, please click here. \nThis webinar is eligible for 1 CPE credit.
URL:https://www.wispro.org/event/cyber-friday-nist-sp-800-171-3-4-configuration-management-and-3-5-identification-authentication/
CATEGORIES:Virtual Event/ Webinar,WPI Events
ORGANIZER;CN="Jack L.":MAILTO:JackL@wispro.org
END:VEVENT
END:VCALENDAR