BEGIN:VCALENDAR
VERSION:2.0
PRODID:-//Wisconsin Procurement Institute - ECPv6.15.17.1//NONSGML v1.0//EN
CALSCALE:GREGORIAN
METHOD:PUBLISH
X-WR-CALNAME:Wisconsin Procurement Institute
X-ORIGINAL-URL:https://www.wispro.org
X-WR-CALDESC:Events for Wisconsin Procurement Institute
REFRESH-INTERVAL;VALUE=DURATION:PT1H
X-Robots-Tag:noindex
X-PUBLISHED-TTL:PT1H
BEGIN:VTIMEZONE
TZID:America/Chicago
BEGIN:DAYLIGHT
TZOFFSETFROM:-0600
TZOFFSETTO:-0500
TZNAME:CDT
DTSTART:20240310T080000
END:DAYLIGHT
BEGIN:STANDARD
TZOFFSETFROM:-0500
TZOFFSETTO:-0600
TZNAME:CST
DTSTART:20241103T070000
END:STANDARD
BEGIN:DAYLIGHT
TZOFFSETFROM:-0600
TZOFFSETTO:-0500
TZNAME:CDT
DTSTART:20250309T080000
END:DAYLIGHT
BEGIN:STANDARD
TZOFFSETFROM:-0500
TZOFFSETTO:-0600
TZNAME:CST
DTSTART:20251102T070000
END:STANDARD
BEGIN:DAYLIGHT
TZOFFSETFROM:-0600
TZOFFSETTO:-0500
TZNAME:CDT
DTSTART:20260308T080000
END:DAYLIGHT
BEGIN:STANDARD
TZOFFSETFROM:-0500
TZOFFSETTO:-0600
TZNAME:CST
DTSTART:20261101T070000
END:STANDARD
END:VTIMEZONE
BEGIN:VEVENT
DTSTART;TZID=America/Chicago:20250401T180000
DTEND;TZID=America/Chicago:20250401T193000
DTSTAMP:20260419T163538
CREATED:20241119T201835Z
LAST-MODIFIED:20250212T154701Z
UID:10003268-1743530400-1743535800@www.wispro.org
SUMMARY:12th Annual FAR Evening Webinar and Study Group Session 7: Introduction and FAR Parts 34-41
DESCRIPTION:The Wisconsin Procurement Institute (WPI) and the National Contract Management Association (NCMA) – Wisconsin Chapter will be presenting the webinar\, “12th Annual FAR Evening Webinar and Study Group Session 1: Introduction and FAR Parts 34-41.” This session is part of the 12th annual FAR Evening Sessions. \nThe FAR Evening Sessions are designed specifically for current Federal contractors. In addition\, these sessions will help you prepare for the NCMA CFCM certification exam. \nSpeakers: \n\nDaryl Zahn\, Senior Manager\, Contracts and Compliance\, Leonardo DRS\nBen Blanc\, Government Contract Specialist\, Wisconsin Procurement Institute (WPI)\n\nThis webinar is eligible for 1.5 CPE credit. \nTo view the full schedule of FAR Evening sessions\, please click here.
URL:https://www.wispro.org/event/12th-annual-far-evening-webinar-and-study-group-session-1-introduction-and-far-part-16-2025-04-08/
CATEGORIES:Virtual Event/ Webinar,WPI Events
ATTACH;FMTTYPE=image/png:https://www.wispro.org/wp-content/uploads/2024/11/Website-Text-Image-4.png
ORGANIZER;CN="Mark Dennis":MAILTO:markd@wispro.org
END:VEVENT
BEGIN:VEVENT
DTSTART;TZID=America/Chicago:20250404T123000
DTEND;TZID=America/Chicago:20250404T130000
DTSTAMP:20260419T163538
CREATED:20250331T140324Z
LAST-MODIFIED:20251117T221413Z
UID:10003320-1743769800-1743771600@www.wispro.org
SUMMARY:Federal Market Insights [FMI]: GSA Multiple Award Schedules (MAS)
DESCRIPTION:FEDERAL MARKET INSIGHTS is an informal podcast designed to provide valuable information about the government marketplace for businesses interested in government contracting. Each episode is a concise 30-minute session\, scheduled at the end of the week. We review noteworthy items published during the week\, delve into key topics\, and offer background information and perspectives relevant to the government contracting landscape. Stop by\, settle in and take-in the conversation. \nGSA MAS are a great acquisition tool but they are not for all companies. Join this Podcast to ask your questions and hear a high level overview of this significant acquisition program. \nPresented by Marc Violante\, Director\, Federal Market Strategies\, Wisconsin Procurement Institute and Mark Dennis\, Government Contract Specialist\, Wisconsin Procurement Institute \nFor the list of Federal Market Insights webinar\, please click here.
URL:https://www.wispro.org/event/federal-market-insights-2025-04-04/
CATEGORIES:In State,Podcast,Virtual Event/ Webinar,WPI Events
ATTACH;FMTTYPE=image/png:https://www.wispro.org/wp-content/uploads/2025/02/FMI-and-Apex-Combined.png
ORGANIZER;CN="Mark Dennis":MAILTO:markd@wispro.org
END:VEVENT
BEGIN:VEVENT
DTSTART;TZID=America/Chicago:20250408T180000
DTEND;TZID=America/Chicago:20250408T193000
DTSTAMP:20260419T163538
CREATED:20241119T201835Z
LAST-MODIFIED:20250212T154750Z
UID:10003269-1744135200-1744140600@www.wispro.org
SUMMARY:12th Annual FAR Evening Webinar and Study Group Session 8: Introduction and FAR Parts 42-53
DESCRIPTION:The Wisconsin Procurement Institute (WPI) and the National Contract Management Association (NCMA) – Wisconsin Chapter will be presenting the webinar\, “12th Annual FAR Evening Webinar and Study Group Session 8: Introduction and FAR Parts 42-53.” This session is part of the 12th annual FAR Evening Sessions. \nThe FAR Evening Sessions are designed specifically for current Federal contractors. In addition\, these sessions will help you prepare for the NCMA CFCM certification exam. \nSpeakers: \n\nDaryl Zahn\, Senior Manager\, Contracts and Compliance\, Leonardo DRS\nJason Rathsack\, Senior Contract Specialist\, Defense Contract Management Agency\nBen Blanc\, Government Contract Specialist\, Wisconsin Procurement Institute (WPI)\n\nThis webinar is eligible for 1.5 CPE credit. \nTo view the full schedule of FAR Evening sessions\, please click here.
URL:https://www.wispro.org/event/12th-annual-far-evening-webinar-and-study-group-session-1-introduction-and-far-part-16-2025-04-15/
CATEGORIES:Virtual Event/ Webinar,WPI Events
ATTACH;FMTTYPE=image/png:https://www.wispro.org/wp-content/uploads/2024/11/Website-Text-Image-4.png
ORGANIZER;CN="Mark Dennis":MAILTO:markd@wispro.org
END:VEVENT
BEGIN:VEVENT
DTSTART;TZID=America/Chicago:20250411T123000
DTEND;TZID=America/Chicago:20250411T130000
DTSTAMP:20260419T163538
CREATED:20250331T152447Z
LAST-MODIFIED:20251117T220953Z
UID:10003321-1744374600-1744376400@www.wispro.org
SUMMARY:Federal Market Insights [FMI]: How to Develop Your Outreach Playbook
DESCRIPTION:FEDERAL MARKET INSIGHTS is an informal podcast designed to provide valuable information about the government marketplace for businesses interested in government contracting. Each episode is a concise 30-minute session\, scheduled at the end of the week. We review noteworthy items published during the week\, delve into key topics\, and offer background information and perspectives relevant to the government contracting landscape. Stop by\, settle in and take-in the conversation. \nMarket research and preparation for upcoming outreach events is critical. Conferences\, federal contractor’s updates and training sessions are all types of outreach events. Each provides both information and marketing of sales opportunities. Join in and hear how to prepare for these underutilized opportunities. \nPresented by Marc Violante\, Director\, Federal Market Strategies\, Wisconsin Procurement Institute and Mark Dennis\, Government Contract Specialist\, Wisconsin Procurement Institute \nFor the list of Federal Market Insights webinar\, please click here.
URL:https://www.wispro.org/event/federal-market-insights-2025-04-11/
CATEGORIES:In State,Podcast,Virtual Event/ Webinar,WPI Events
ATTACH;FMTTYPE=image/png:https://www.wispro.org/wp-content/uploads/2025/02/FMI-and-Apex-Combined.png
ORGANIZER;CN="Mark Dennis":MAILTO:markd@wispro.org
END:VEVENT
BEGIN:VEVENT
DTSTART;TZID=America/Chicago:20250415T110000
DTEND;TZID=America/Chicago:20250415T120000
DTSTAMP:20260419T163538
CREATED:20250211T220752Z
LAST-MODIFIED:20250211T220858Z
UID:10003306-1744714800-1744718400@www.wispro.org
SUMMARY:Acquisition Hour: Government Property Management for Federal Contractors and Subcontractors
DESCRIPTION:The Federal government supplies billions of dollars worth of Government-Furnished Property (GFP) to contractors for use in performing contracts. As a contractor for the Federal Government or a subcontractor to a prime contractor\, you may receive government property. Managing this property is a contractual obligation. \nThere are costs associated with government property management that must be considered by a prime or a subcontractor. An unfavorable assessment of a contractor’s Property Management System may result in financial penalties. \nThis webinar will cover: \n\nGovernment Property clauses including the new DFAR Clause 252.245-7005 that replaced 4 previous clauses related to GP management and reporting\nHow to apply the clauses\nWhat tools/ processes must be in place before you are able to receive government property\n\nSpeaker: Benjamin Blanc\, Government Contract Specialist – Wisconsin Procurement Institute (WPI) – WI APEX Accelerator \nThis webinar is eligible for 1 CPE credit. \nView a schedule of all upcoming Acquisition Hour webinars.
URL:https://www.wispro.org/event/acquisition-hour-government-property-management-for-federal-contractors-and-subcontractors-4/
CATEGORIES:Virtual Event/ Webinar,WPI Events
ATTACH;FMTTYPE=image/jpeg:https://www.wispro.org/wp-content/uploads/2024/10/AH-and-Apex-Combined.jpg
ORGANIZER;CN="Mark Dennis":MAILTO:markd@wispro.org
END:VEVENT
BEGIN:VEVENT
DTSTART;TZID=America/Chicago:20250424T130000
DTEND;TZID=America/Chicago:20250424T143000
DTSTAMP:20260419T163538
CREATED:20250424T155302Z
LAST-MODIFIED:20250424T155621Z
UID:10002695-1745499600-1745505000@www.wispro.org
SUMMARY:Townhall: New Grant Funding for Manufacturing in America
DESCRIPTION:The U.S. Small Business Administration (SBA)\, announced a funding opportunity to empower small businesses\, bring manufacturing jobs back to the U.S.\, address workforce shortages\, operational inefficiencies\, and limited access to contract opportunities through its Empower to Grow (E2G) Program Manufacturing in America Grant Initiative. The E2G Program will provide up to $1.1 million in grants to eligible participants that submit proposals that are unique and innovative in manufacturing related training and technical assistance to be provided to small businesses\, especially those that are HUBZone firms. The deadline for eligible participants to submit proposals electronically via https://www.grants.gov is May 12\, no later than 11:59 p.m. (EDT). \nClick here to learn more and register.
URL:https://www.wispro.org/event/townhall-new-grant-funding-for-manufacturing-in-america-2/
CATEGORIES:In State,Virtual Event/ Webinar,Workshop,WPI Partner Events
ATTACH;FMTTYPE=image/png:https://www.wispro.org/wp-content/uploads/2025/04/SBA-Manufacturing-in-America.png
ORGANIZER;CN="U.S. Small Business Administration (SBA)":MAILTO:smallbusinessweek@sba.gov
END:VEVENT
BEGIN:VEVENT
DTSTART;TZID=America/Chicago:20250425T110000
DTEND;TZID=America/Chicago:20250425T120000
DTSTAMP:20260419T163538
CREATED:20250106T212716Z
LAST-MODIFIED:20250610T135928Z
UID:10002645-1745578800-1745582400@www.wispro.org
SUMMARY:Cyber Friday: CMMC:  Maintaining Your CMMC Certification
DESCRIPTION:This webinar will help businesses determine their readiness for a CMMC Third-Party Assessment Organization (C3PAO) evaluation. It will cover key preparation steps\, including conducting gap analyses\, organizing documentation\, and performing mock assessments. Attendees will learn how to identify vulnerabilities\, address compliance gaps\, and confidently prepare for the formal certification process. Practical checklists and strategies will be discussed to streamline preparation and ensure success during the assessment. \nSpeaker: Matt Frost\, Government Contract Specialist\, Wisconsin Procurement Institute – WI APEX Accelerator \nThis webinar is eligible for 1 CPE credit. \nFor the full schedule of the Cyber Thursday webinars\, please click here.
URL:https://www.wispro.org/event/cyber-friday-cmmc-are-you-ready-for-a-c3pao-assessment-2025-04-25/
CATEGORIES:Virtual Event/ Webinar,WPI Events
ATTACH;FMTTYPE=image/jpeg:https://www.wispro.org/wp-content/uploads/2024/10/CF-and-Apex-Combined.jpg
ORGANIZER;CN="Mark Dennis":MAILTO:markd@wispro.org
END:VEVENT
BEGIN:VEVENT
DTSTART;TZID=America/Chicago:20250425T123000
DTEND;TZID=America/Chicago:20250425T130000
DTSTAMP:20260419T163538
CREATED:20250331T161210Z
LAST-MODIFIED:20251117T221647Z
UID:10003323-1745584200-1745586000@www.wispro.org
SUMMARY:Federal Market Insights [FMI]: The Federal Marketplace for Those Who Have the Next Great Idea
DESCRIPTION:FEDERAL MARKET INSIGHTS is an informal podcast designed to provide valuable information about the government marketplace for businesses interested in government contracting. Each episode is a concise 30-minute session\, scheduled at the end of the week. We review noteworthy items published during the week\, delve into key topics\, and offer background information and perspectives relevant to the government contracting landscape. Stop by\, settle in and take-in the conversation. \nThe innovators of today. There are many programs and opportunities for these individuals and companies. Listen in to learn more about programs that all innovators should know about and explore\, and the Critical Technologies that are of interest to the Department of Defense. \nPresented by Marc Violante\, Director\, Federal Market Strategies\, Wisconsin Procurement Institute and Mark Dennis\, Government Contract Specialist\, Wisconsin Procurement Institute \nFor the list of Federal Market Insights webinar\, please click here.
URL:https://www.wispro.org/event/federal-market-insights-2025-04-25/
CATEGORIES:In State,Podcast,Virtual Event/ Webinar,WPI Events
ATTACH;FMTTYPE=image/png:https://www.wispro.org/wp-content/uploads/2025/02/FMI-and-Apex-Combined.png
ORGANIZER;CN="Mark Dennis":MAILTO:markd@wispro.org
END:VEVENT
BEGIN:VEVENT
DTSTART;TZID=America/Chicago:20250430T130000
DTEND;TZID=America/Chicago:20250430T143000
DTSTAMP:20260419T163538
CREATED:20250424T154342Z
LAST-MODIFIED:20250424T155722Z
UID:10002693-1746018000-1746023400@www.wispro.org
SUMMARY:Townhall: New Grant Funding for Manufacturing in America
DESCRIPTION:The U.S. Small Business Administration (SBA)\, announced a funding opportunity to empower small businesses\, bring manufacturing jobs back to the U.S.\, address workforce shortages\, operational inefficiencies\, and limited access to contract opportunities through its Empower to Grow (E2G) Program Manufacturing in America Grant Initiative. The E2G Program will provide up to $1.1 million in grants to eligible participants that submit proposals that are unique and innovative in manufacturing related training and technical assistance to be provided to small businesses\, especially those that are HUBZone firms. The deadline for eligible participants to submit proposals electronically via https://www.grants.gov is May 12\, no later than 11:59 p.m. (EDT). \nClick here to learn more and register.
URL:https://www.wispro.org/event/townhall-new-grant-funding-for-manufacturing-in-america/
CATEGORIES:In State,Virtual Event/ Webinar,Workshop,WPI Partner Events
ATTACH;FMTTYPE=image/png:https://www.wispro.org/wp-content/uploads/2025/04/SBA-Manufacturing-in-America.png
ORGANIZER;CN="U.S. Small Business Administration (SBA)":MAILTO:smallbusinessweek@sba.gov
END:VEVENT
END:VCALENDAR