BEGIN:VCALENDAR
VERSION:2.0
PRODID:-//Wisconsin Procurement Institute - ECPv6.15.17.1//NONSGML v1.0//EN
CALSCALE:GREGORIAN
METHOD:PUBLISH
X-ORIGINAL-URL:https://www.wispro.org
X-WR-CALDESC:Events for Wisconsin Procurement Institute
REFRESH-INTERVAL;VALUE=DURATION:PT1H
X-Robots-Tag:noindex
X-PUBLISHED-TTL:PT1H
BEGIN:VTIMEZONE
TZID:America/Chicago
BEGIN:DAYLIGHT
TZOFFSETFROM:-0600
TZOFFSETTO:-0500
TZNAME:CDT
DTSTART:20240310T080000
END:DAYLIGHT
BEGIN:STANDARD
TZOFFSETFROM:-0500
TZOFFSETTO:-0600
TZNAME:CST
DTSTART:20241103T070000
END:STANDARD
BEGIN:DAYLIGHT
TZOFFSETFROM:-0600
TZOFFSETTO:-0500
TZNAME:CDT
DTSTART:20250309T080000
END:DAYLIGHT
BEGIN:STANDARD
TZOFFSETFROM:-0500
TZOFFSETTO:-0600
TZNAME:CST
DTSTART:20251102T070000
END:STANDARD
BEGIN:DAYLIGHT
TZOFFSETFROM:-0600
TZOFFSETTO:-0500
TZNAME:CDT
DTSTART:20260308T080000
END:DAYLIGHT
BEGIN:STANDARD
TZOFFSETFROM:-0500
TZOFFSETTO:-0600
TZNAME:CST
DTSTART:20261101T070000
END:STANDARD
END:VTIMEZONE
BEGIN:VEVENT
DTSTART;TZID=America/Chicago:20250805T123000
DTEND;TZID=America/Chicago:20250805T130000
DTSTAMP:20260419T101035
CREATED:20250602T201036Z
LAST-MODIFIED:20251118T222049Z
UID:10003345-1754397000-1754398800@www.wispro.org
SUMMARY:Federal Market Insights [FMI]: Innovation - Artificial Intelligence and Its Role in DLA Contracting: What Contractors Need to Know
DESCRIPTION:FEDERAL MARKET INSIGHTS is an informal podcast designed to provide valuable information about the government marketplace for businesses interested in government contracting. Each episode is a concise 30-minute session\, scheduled at the end of the week. We review noteworthy items published during the week\, delve into key topics\, and offer background information and perspectives relevant to the government contracting landscape. Stop by\, settle in and take-in the conversation. \nPresented by Marc Violante\, Director\, Federal Market Strategies\, Wisconsin Procurement Institute and Mark Dennis\, Government Contract Specialist\, Wisconsin Procurement Institute \nFor the list of Federal Market Insights webinar\, please click here.
URL:https://www.wispro.org/event/federal-market-insights-2025-08-05/
CATEGORIES:In State,Podcast,Virtual Event/ Webinar,WPI Events
ATTACH;FMTTYPE=image/png:https://www.wispro.org/wp-content/uploads/2025/02/FMI-and-Apex-Combined.png
ORGANIZER;CN="Mark Dennis":MAILTO:markd@wispro.org
END:VEVENT
BEGIN:VEVENT
DTSTART;TZID=America/Chicago:20250806T120000
DTEND;TZID=America/Chicago:20250806T130000
DTSTAMP:20260419T101035
CREATED:20250602T192757Z
LAST-MODIFIED:20250721T180314Z
UID:10003337-1754481600-1754485200@www.wispro.org
SUMMARY:Acquisition Hour: Writing an Effective Capabilities Statement
DESCRIPTION:Like resumes\, capabilities statements play an important role in effectively selling your company to potential government and corporate customers. Capabilities statements also follow similar rules to resumes – keep them to one page\, don’t leave out important sections\, and make sure each section is filled with relevant\, up-to-date information. \nThis session will detail what makes a capabilities statement effective. In addition\, by learning how to conceptualize more clearly their own long-term goals and competitive advantages\, attendees will gain the tools to improve all their marketing assets’ messaging. \nSpeakers: \n\nJack Laufenberg\, Small Business Advisor – Wisconsin Procurement Institute (WPI) – WI APEX Accelerator\n\nThis webinar is eligible for 1 CPE credit. \nView a schedule of all upcoming Acquisition Hour webinars.
URL:https://www.wispro.org/event/acquisition-hour-writing-an-effective-capabilities-statement-2025-08-06/
CATEGORIES:In State,Virtual Event/ Webinar,WPI Events
ATTACH;FMTTYPE=image/jpeg:https://www.wispro.org/wp-content/uploads/2024/10/AH-and-Apex-Combined.jpg
ORGANIZER;CN="Jack L.":MAILTO:JackL@wispro.org
END:VEVENT
BEGIN:VEVENT
DTSTART;TZID=America/Chicago:20250811T110000
DTEND;TZID=America/Chicago:20250811T120000
DTSTAMP:20260419T101035
CREATED:20250804T165709Z
LAST-MODIFIED:20250804T165709Z
UID:10003457-1754910000-1754913600@www.wispro.org
SUMMARY:WEDC Small Business Technical Assistance Grant - Informational Webinar
DESCRIPTION:Join us for an informative webinar on the Small Business Technical Assistance Grant! This session is designed to provide a comprehensive overview of the program\, guiding potential applicants through the application process\, key dates\, and essential information. Whether you’re a first-time applicant or seeking to refine your submission\, this webinar is the perfect opportunity to get all your questions answered. \nProgram Overview: Understand the purpose\, benefits\, and opportunities offered by the Small Business Technical Assistance grant. \nApplication Process: Step-by-step guidance on how to apply\, including eligibility criteria\, required documentation\, and submission tips. \nImportant Dates: Key deadlines and milestones you need to know to stay on track. \nQ&A Session: A live Q&A session where our experts will answer your questions and provide additional insights. \nDon’t miss this chance to learn more about how the Small Business Technical Assistance Grant can support your small business ecosystem. Register now and secure your spot! \nFor more information\, click here.
URL:https://www.wispro.org/event/wedc-small-business-technical-assistance-grant-informational-webinar/
CATEGORIES:In State,Virtual Event/ Webinar,WPI Partner Events
ATTACH;FMTTYPE=image/png:https://www.wispro.org/wp-content/uploads/2024/02/WEDC-Logo.png
ORGANIZER;CN="Wisconsin Economic Development Corporation":MAILTO:events@wedc.org
END:VEVENT
BEGIN:VEVENT
DTSTART;TZID=America/Chicago:20250812T123000
DTEND;TZID=America/Chicago:20250812T130000
DTSTAMP:20260419T101035
CREATED:20250602T201448Z
LAST-MODIFIED:20251118T222300Z
UID:10003346-1755001800-1755003600@www.wispro.org
SUMMARY:Federal Market Insights [FMI]: DLA's QPLs\, QMLs\, and QBLs AND DLA Warehouse Logistics - What They Are and How They Apply to Your Work With DLA
DESCRIPTION:FEDERAL MARKET INSIGHTS is an informal podcast designed to provide valuable information about the government marketplace for businesses interested in government contracting. Each episode is a concise 30-minute session\, scheduled at the end of the week. We review noteworthy items published during the week\, delve into key topics\, and offer background information and perspectives relevant to the government contracting landscape. Stop by\, settle in and take-in the conversation. \nPresented by Marc Violante\, Director\, Federal Market Strategies\, Wisconsin Procurement Institute and Mark Dennis\, Government Contract Specialist\, Wisconsin Procurement Institute \nFor the list of Federal Market Insights webinar\, please click here.
URL:https://www.wispro.org/event/federal-market-insights-2025-08-12/
CATEGORIES:In State,Podcast,Virtual Event/ Webinar,WPI Events
ATTACH;FMTTYPE=image/png:https://www.wispro.org/wp-content/uploads/2025/02/FMI-and-Apex-Combined.png
ORGANIZER;CN="Mark Dennis":MAILTO:markd@wispro.org
END:VEVENT
BEGIN:VEVENT
DTSTART;TZID=America/Chicago:20250814T090000
DTEND;TZID=America/Chicago:20250814T123000
DTSTAMP:20260419T101035
CREATED:20250806T163532Z
LAST-MODIFIED:20250806T163532Z
UID:10003459-1755162000-1755174600@www.wispro.org
SUMMARY:SAME Rock Island Post 2025 Commanders' Briefing Webinar
DESCRIPTION:Join us on Thursday\, August 14th from 0900-1230 CST for the Rock Island Post’s annual Upper Midwest USACE Districts Program Briefings. This an opportunity to hear directly from each District Commander about their current and upcoming program as well as construction and A/E opportunities. \nThe webinar is available without charge. A recording and slides will be provided to all who contribute to the Scholarship fund ($50 suggested). \nThis year we will have District Commanders (or their representatives) from: \n\nChicago District\nDetroit District\nKansas City District\nLouisville District\nOmaha District\nRock Island District\nSt. Louis District\nSt. Paul District\n\nFor more information\, click here.
URL:https://www.wispro.org/event/same-rock-island-post-2025-commanders-briefing-webinar/
CATEGORIES:Virtual Event/ Webinar,WPI Partner Events
ATTACH;FMTTYPE=image/jpeg:https://www.wispro.org/wp-content/uploads/2024/03/same.jpg
ORGANIZER;CN="SAME Rock Island Post":MAILTO:ripost.secretary@gmail.com
END:VEVENT
BEGIN:VEVENT
DTSTART;TZID=America/Chicago:20250819T123000
DTEND;TZID=America/Chicago:20250819T130000
DTSTAMP:20260419T101035
CREATED:20250731T010552Z
LAST-MODIFIED:20251118T222500Z
UID:10003435-1755606600-1755608400@www.wispro.org
SUMMARY:Federal Market Insights [FMI]: Record Retention - What's Required\, What Mandates It\, Why It Is Important.
DESCRIPTION:FEDERAL MARKET INSIGHTS is an informal podcast designed to provide valuable information about the government marketplace for businesses interested in government contracting. Each episode is a concise 30-minute session\, scheduled during the noon hour on Tuesdays. We review noteworthy items published during the week\, delve into key topics\, and offer background information and perspectives relevant to the government contracting landscape. Stop by\, settle in and take in the conversation. \nPresented by Marc Violante\, Director\, Federal Market Strategies\, Wisconsin Procurement Institute and Mark Dennis\, Government Contract Specialist\, Wisconsin Procurement Institute \nFor the list of Federal Market Insights webinar\, please click here.
URL:https://www.wispro.org/event/federal-market-insights-2025-08-19/
CATEGORIES:In State,Podcast,Virtual Event/ Webinar,WPI Events
ATTACH;FMTTYPE=image/png:https://www.wispro.org/wp-content/uploads/2025/02/FMI-and-Apex-Combined.png
ORGANIZER;CN="Mark Dennis":MAILTO:markd@wispro.org
END:VEVENT
BEGIN:VEVENT
DTSTART;TZID=America/Chicago:20250820T120000
DTEND;TZID=America/Chicago:20250820T130000
DTSTAMP:20260419T101035
CREATED:20250604T140709Z
LAST-MODIFIED:20250721T180345Z
UID:10003348-1755691200-1755694800@www.wispro.org
SUMMARY:Acquisition Hour: End of the Federal Fiscal Year Spending: Are You Ready?
DESCRIPTION:Speakers: \n\nMarc Violante\, Director\, Federal Market Strategies – Wisconsin Procurement Institute (WPI) – WI APEX Accelerator\nMark Dennis\, Government Contract Specialist – Wisconsin Procurement Institute (WPI) – WI APEX Accelerator\n\nThis webinar is eligible for 1 CPE credit. \nView a schedule of all upcoming Acquisition Hour webinars.
URL:https://www.wispro.org/event/acquisition-hour-end-of-the-federal-fiscal-year-2025-08-20/
CATEGORIES:In State,Virtual Event/ Webinar,WPI Events
ATTACH;FMTTYPE=image/jpeg:https://www.wispro.org/wp-content/uploads/2024/10/AH-and-Apex-Combined.jpg
ORGANIZER;CN="Mark Dennis":MAILTO:markd@wispro.org
END:VEVENT
BEGIN:VEVENT
DTSTART;TZID=America/Chicago:20250826T120000
DTEND;TZID=America/Chicago:20250826T123000
DTSTAMP:20260419T101035
CREATED:20250708T181353Z
LAST-MODIFIED:20250708T181417Z
UID:10003427-1756209600-1756211400@www.wispro.org
SUMMARY:DOT Blatnik Bridge Project Bonding Education Program
DESCRIPTION:The Bonding Education Program’s mission is to increase small businesses’ economic competitiveness. The program includes the following: \n\nBuilding an Effective Capability Statement\nImproving your credit and access to capital\nBidding & Estimating\nDavis Bacon Payroll Requirements\nDBE Contract Compliance\nBonding 101\nPRIME Lead session: What do primes look for in a subcontractor?\n\nClass Schedule: \n\nKickoff- August 26\, 2025 – 12:00 – 12:30PM CST\n\nSession times – 12:00 PM – 1:30 PM CST \n\nSeptember 04\, 2025\nSeptember 09\, 2025\nSeptember 11\, 2025\nSeptember 16\, 2025\nSeptember 18\, 2025\nSeptember 23\, 2025\nSeptember 25\, 2025\n\nFor more information\, click here. \n 
URL:https://www.wispro.org/event/dot-blatnik-bridge-project-bonding-education-program-08-26-25/
CATEGORIES:Virtual Event/ Webinar,WPI Partner Events
ATTACH;FMTTYPE=image/png:https://www.wispro.org/wp-content/uploads/2025/02/Website-Text-Image-1.png
END:VEVENT
BEGIN:VEVENT
DTSTART;TZID=America/Chicago:20250826T123000
DTEND;TZID=America/Chicago:20250826T130000
DTSTAMP:20260419T101035
CREATED:20250731T011514Z
LAST-MODIFIED:20251118T222730Z
UID:10003436-1756211400-1756213200@www.wispro.org
SUMMARY:Federal Market Insights [FMI]: Do You Have Skeletons in the Closet? Could They Come Back to Life? Issues to Ponder. Reviewing Past Performance
DESCRIPTION:FEDERAL MARKET INSIGHTS is an informal podcast designed to provide valuable information about the government marketplace for businesses interested in government contracting. Each episode is a concise 30-minute session\, scheduled during the noon hour on Tuesdays. We review noteworthy items published during the week\, delve into key topics\, and offer background information and perspectives relevant to the government contracting landscape. Stop by\, settle in and take in the conversation. \nPresented by Marc Violante\, Director\, Federal Market Strategies\, Wisconsin Procurement Institute and Mark Dennis\, Government Contract Specialist\, Wisconsin Procurement Institute \nFor the list of Federal Market Insights webinar\, please click here.
URL:https://www.wispro.org/event/federal-market-insights-2025-08-26/
CATEGORIES:In State,Podcast,Virtual Event/ Webinar,WPI Events
ATTACH;FMTTYPE=image/png:https://www.wispro.org/wp-content/uploads/2025/02/FMI-and-Apex-Combined.png
ORGANIZER;CN="Mark Dennis":MAILTO:markd@wispro.org
END:VEVENT
BEGIN:VEVENT
DTSTART;TZID=America/Chicago:20250828T110000
DTEND;TZID=America/Chicago:20250828T120000
DTSTAMP:20260419T101035
CREATED:20250529T212920Z
LAST-MODIFIED:20250610T135525Z
UID:10002711-1756378800-1756382400@www.wispro.org
SUMMARY:Cyber Thursday: The Federal Cybersecurity Horizon: Zero Trust\, FedRAMP\, and Supply Chain Risk
DESCRIPTION:As federal cybersecurity strategy continues to evolve\, understanding emerging priorities is essential for staying compliant and competitive. This webinar explores key federal initiatives – Zero Trust Architecture\, FedRAMP\, and Supply Chain Risk Management—and how they intersect with existing regulations like FAR 52.204-21 and NIST SP 800-171. Attendees will gain insight into the federal government’s long-term cybersecurity vision\, what contractors can expect in terms of risk accountability and system authorization\, and how these initiatives shape future compliance requirements. This session is ideal for those looking to align their cybersecurity programs with federal expectations and prepare for what’s next on the cybersecurity horizon. \nSpeaker: Matt Frost\, Government Contract Specialist\, Wisconsin Procurement Institute – WI APEX Accelerator \n\n\n\nThis webinar is eligible for 1 CPE credit. \nFor the full schedule of the Cyber Thursday webinars\, please click here.
URL:https://www.wispro.org/event/cyber-thursday-federal-cybersecurity-horizon-2025-08-28/
CATEGORIES:Virtual Event/ Webinar,WPI Events
ATTACH;FMTTYPE=image/png:https://www.wispro.org/wp-content/uploads/2025/05/Cyber-Thurs-and-Apex-Combined.png
ORGANIZER;CN="Mark Dennis":MAILTO:markd@wispro.org
END:VEVENT
END:VCALENDAR