BEGIN:VCALENDAR
VERSION:2.0
PRODID:-//Wisconsin Procurement Institute - ECPv6.15.17.1//NONSGML v1.0//EN
CALSCALE:GREGORIAN
METHOD:PUBLISH
X-WR-CALNAME:Wisconsin Procurement Institute
X-ORIGINAL-URL:https://www.wispro.org
X-WR-CALDESC:Events for Wisconsin Procurement Institute
REFRESH-INTERVAL;VALUE=DURATION:PT1H
X-Robots-Tag:noindex
X-PUBLISHED-TTL:PT1H
BEGIN:VTIMEZONE
TZID:America/Chicago
BEGIN:DAYLIGHT
TZOFFSETFROM:-0600
TZOFFSETTO:-0500
TZNAME:CDT
DTSTART:20230312T080000
END:DAYLIGHT
BEGIN:STANDARD
TZOFFSETFROM:-0500
TZOFFSETTO:-0600
TZNAME:CST
DTSTART:20231105T070000
END:STANDARD
BEGIN:DAYLIGHT
TZOFFSETFROM:-0600
TZOFFSETTO:-0500
TZNAME:CDT
DTSTART:20240310T080000
END:DAYLIGHT
BEGIN:STANDARD
TZOFFSETFROM:-0500
TZOFFSETTO:-0600
TZNAME:CST
DTSTART:20241103T070000
END:STANDARD
BEGIN:DAYLIGHT
TZOFFSETFROM:-0600
TZOFFSETTO:-0500
TZNAME:CDT
DTSTART:20250309T080000
END:DAYLIGHT
BEGIN:STANDARD
TZOFFSETFROM:-0500
TZOFFSETTO:-0600
TZNAME:CST
DTSTART:20251102T070000
END:STANDARD
BEGIN:DAYLIGHT
TZOFFSETFROM:-0600
TZOFFSETTO:-0500
TZNAME:CDT
DTSTART:20260308T080000
END:DAYLIGHT
BEGIN:STANDARD
TZOFFSETFROM:-0500
TZOFFSETTO:-0600
TZNAME:CST
DTSTART:20261101T070000
END:STANDARD
END:VTIMEZONE
BEGIN:VEVENT
DTSTART;TZID=America/Chicago:20250131T130000
DTEND;TZID=America/Chicago:20250131T133000
DTSTAMP:20260419T065853
CREATED:20241007T154523Z
LAST-MODIFIED:20241126T192336Z
UID:10002620-1738328400-1738330200@www.wispro.org
SUMMARY:Acquisition Hour: CMMC Update – January 2025
DESCRIPTION:Join us for an essential monthly update designed to provide manufacturers with the latest information on the Cybersecurity Maturity Model Certification (CMMC). As cybersecurity becomes an increasingly critical requirement for Federal and Defense contracting\, staying current and compliant is vital for manufacturers looking to secure and maintain federal contracts and subcontracts. This webinar will break down the most recent changes to CMMC\, what they mean for your business\, and how to ensure your operations are aligned with the latest cybersecurity standards. Don’t miss this opportunity to protect your business and stay ahead of evolving regulations. \nSpeaker: Matt Frost\, Government Contract Specialist\, Wisconsin Procurement Institute \nThis webinar is eligible for .5 CPE credit. \nView a schedule of all upcoming Acquisition Hour webinars.
URL:https://www.wispro.org/event/acquisition-hour-cmmc-update-january-2025/
CATEGORIES:Virtual Event/ Webinar,WPI Events
ATTACH;FMTTYPE=image/jpeg:https://www.wispro.org/wp-content/uploads/2024/10/AH-and-Apex-Combined.jpg
ORGANIZER;CN="Matt Frost":MAILTO:MattF@WisPro.org
END:VEVENT
BEGIN:VEVENT
DTSTART;TZID=America/Chicago:20241220T130000
DTEND;TZID=America/Chicago:20241220T133000
DTSTAMP:20260419T065853
CREATED:20241007T154249Z
LAST-MODIFIED:20241126T192400Z
UID:10002619-1734699600-1734701400@www.wispro.org
SUMMARY:Acquisition Hour: CMMC Update – December 2024
DESCRIPTION:Join us for an essential monthly update designed to provide manufacturers with the latest information on the Cybersecurity Maturity Model Certification (CMMC). As cybersecurity becomes an increasingly critical requirement for Federal and Defense contracting\, staying current and compliant is vital for manufacturers looking to secure and maintain federal contracts and subcontracts. This webinar will break down the most recent changes to CMMC\, what they mean for your business\, and how to ensure your operations are aligned with the latest cybersecurity standards. Don’t miss this opportunity to protect your business and stay ahead of evolving regulations. \nSpeaker: Matt Frost\, Government Contract Specialist\, Wisconsin Procurement Institute \nThis webinar is eligible for .5 CPE credit. \nView a schedule of all upcoming Acquisition Hour webinars.
URL:https://www.wispro.org/event/acquisition-hour-cmmc-update-december-2024/
CATEGORIES:Virtual Event/ Webinar,WPI Events
ATTACH;FMTTYPE=image/jpeg:https://www.wispro.org/wp-content/uploads/2024/10/AH-and-Apex-Combined.jpg
ORGANIZER;CN="Matt Frost":MAILTO:MattF@WisPro.org
END:VEVENT
BEGIN:VEVENT
DTSTART;TZID=America/Chicago:20241122T130000
DTEND;TZID=America/Chicago:20241122T140000
DTSTAMP:20260419T065853
CREATED:20241007T153921Z
LAST-MODIFIED:20241025T210711Z
UID:10002616-1732280400-1732284000@www.wispro.org
SUMMARY:Acquisition Hour: CMMC Update – November 2024
DESCRIPTION:Join us for an essential monthly update designed to provide manufacturers with the latest information on the Cybersecurity Maturity Model Certification (CMMC). As cybersecurity becomes an increasingly critical requirement for Federal and Defense contracting\, staying current and compliant is vital for manufacturers looking to secure and maintain federal contracts and subcontracts. This webinar will break down the most recent changes to CMMC\, what they mean for your business\, and how to ensure your operations are aligned with the latest cybersecurity standards. Don’t miss this opportunity to protect your business and stay ahead of evolving regulations. \nSpeaker: Matt Frost\, Government Contract Specialist\, Wisconsin Procurement Institute \nThis webinar is eligible for 1 CPE credit. \nView a schedule of all upcoming Acquisition Hour webinars.
URL:https://www.wispro.org/event/acquisition-hour-cmmc-update-november-2024/
CATEGORIES:Virtual Event/ Webinar,WPI Events
ATTACH;FMTTYPE=image/jpeg:https://www.wispro.org/wp-content/uploads/2024/10/AH-and-Apex-Combined.jpg
ORGANIZER;CN="Matt Frost":MAILTO:MattF@WisPro.org
END:VEVENT
BEGIN:VEVENT
DTSTART;TZID=America/Chicago:20241025T130000
DTEND;TZID=America/Chicago:20241025T140000
DTSTAMP:20260419T065853
CREATED:20241007T151601Z
LAST-MODIFIED:20241025T210732Z
UID:10002614-1729861200-1729864800@www.wispro.org
SUMMARY:Acquisition Hour: CMMC Update – October 2024
DESCRIPTION:Join us for an essential monthly update designed to provide manufacturers with the latest information on the Cybersecurity Maturity Model Certification (CMMC). As cybersecurity becomes an increasingly critical requirement for Federal and Defense contracting\, staying current and compliant is vital for manufacturers looking to secure and maintain federal contracts and subcontracts. This webinar will break down the most recent changes to CMMC\, what they mean for your business\, and how to ensure your operations are aligned with the latest cybersecurity standards. Don’t miss this opportunity to protect your business and stay ahead of evolving regulations. \nSpeaker: Matt Frost\, Government Contract Specialist\, Wisconsin Procurement Institute \nThis webinar is eligible for 1 CPE credit. \nView a schedule of all upcoming Acquisition Hour webinars.
URL:https://www.wispro.org/event/acquisition-hour-cmmc-update-october-2024/
CATEGORIES:Virtual Event/ Webinar,WPI Events
ATTACH;FMTTYPE=image/jpeg:https://www.wispro.org/wp-content/uploads/2024/10/AH-and-Apex-Combined.jpg
ORGANIZER;CN="Matt Frost":MAILTO:MattF@WisPro.org
END:VEVENT
END:VCALENDAR