BEGIN:VCALENDAR
VERSION:2.0
PRODID:-//Wisconsin Procurement Institute - ECPv6.15.17.1//NONSGML v1.0//EN
CALSCALE:GREGORIAN
METHOD:PUBLISH
X-ORIGINAL-URL:https://www.wispro.org
X-WR-CALDESC:Events for Wisconsin Procurement Institute
REFRESH-INTERVAL;VALUE=DURATION:PT1H
X-Robots-Tag:noindex
X-PUBLISHED-TTL:PT1H
BEGIN:VTIMEZONE
TZID:America/Chicago
BEGIN:DAYLIGHT
TZOFFSETFROM:-0600
TZOFFSETTO:-0500
TZNAME:CDT
DTSTART:20230312T080000
END:DAYLIGHT
BEGIN:STANDARD
TZOFFSETFROM:-0500
TZOFFSETTO:-0600
TZNAME:CST
DTSTART:20231105T070000
END:STANDARD
BEGIN:DAYLIGHT
TZOFFSETFROM:-0600
TZOFFSETTO:-0500
TZNAME:CDT
DTSTART:20240310T080000
END:DAYLIGHT
BEGIN:STANDARD
TZOFFSETFROM:-0500
TZOFFSETTO:-0600
TZNAME:CST
DTSTART:20241103T070000
END:STANDARD
BEGIN:DAYLIGHT
TZOFFSETFROM:-0600
TZOFFSETTO:-0500
TZNAME:CDT
DTSTART:20250309T080000
END:DAYLIGHT
BEGIN:STANDARD
TZOFFSETFROM:-0500
TZOFFSETTO:-0600
TZNAME:CST
DTSTART:20251102T070000
END:STANDARD
END:VTIMEZONE
BEGIN:VEVENT
DTSTART;TZID=America/Chicago:20241024T150000
DTEND;TZID=America/Chicago:20241024T173000
DTSTAMP:20260419T132014
CREATED:20240930T162128Z
LAST-MODIFIED:20240930T162224Z
UID:10003252-1729782000-1729791000@www.wispro.org
SUMMARY:Business Expo & Regional Job Fair - Mauston\, WI
DESCRIPTION:Regional Public Job Fair 3 pm – 5:30 pm \nTo reserve a booth\, please RSVP by October 18th to jdillin@maustonschools.org.  Booth fee $20\, make check to Mauston High School Business Expo.\nMove-in to set up 10 am – 11 am\nStudent Career Fair 11 am – 3 pm \nFor more information\, click here.
URL:https://www.wispro.org/event/business-expo-regional-job-fair-mauston-wi/
LOCATION:Mauston High School Gymnasium\, 800 Grayside Ave\, Mauston\, WI\, 53948
CATEGORIES:In State,WPI Partner Events
ATTACH;FMTTYPE=image/png:https://www.wispro.org/wp-content/uploads/2024/09/Website-Text-Image-4.png
END:VEVENT
END:VCALENDAR