BEGIN:VCALENDAR
VERSION:2.0
PRODID:-//Wisconsin Procurement Institute - ECPv6.15.17.1//NONSGML v1.0//EN
CALSCALE:GREGORIAN
METHOD:PUBLISH
X-WR-CALNAME:Wisconsin Procurement Institute
X-ORIGINAL-URL:https://www.wispro.org
X-WR-CALDESC:Events for Wisconsin Procurement Institute
REFRESH-INTERVAL;VALUE=DURATION:PT1H
X-Robots-Tag:noindex
X-PUBLISHED-TTL:PT1H
BEGIN:VTIMEZONE
TZID:America/Chicago
BEGIN:DAYLIGHT
TZOFFSETFROM:-0600
TZOFFSETTO:-0500
TZNAME:CDT
DTSTART:20200308T080000
END:DAYLIGHT
BEGIN:STANDARD
TZOFFSETFROM:-0500
TZOFFSETTO:-0600
TZNAME:CST
DTSTART:20201101T070000
END:STANDARD
BEGIN:DAYLIGHT
TZOFFSETFROM:-0600
TZOFFSETTO:-0500
TZNAME:CDT
DTSTART:20210314T080000
END:DAYLIGHT
BEGIN:STANDARD
TZOFFSETFROM:-0500
TZOFFSETTO:-0600
TZNAME:CST
DTSTART:20211107T070000
END:STANDARD
BEGIN:DAYLIGHT
TZOFFSETFROM:-0600
TZOFFSETTO:-0500
TZNAME:CDT
DTSTART:20220313T080000
END:DAYLIGHT
BEGIN:STANDARD
TZOFFSETFROM:-0500
TZOFFSETTO:-0600
TZNAME:CST
DTSTART:20221106T070000
END:STANDARD
BEGIN:DAYLIGHT
TZOFFSETFROM:-0600
TZOFFSETTO:-0500
TZNAME:CDT
DTSTART:20230312T080000
END:DAYLIGHT
BEGIN:STANDARD
TZOFFSETFROM:-0500
TZOFFSETTO:-0600
TZNAME:CST
DTSTART:20231105T070000
END:STANDARD
BEGIN:DAYLIGHT
TZOFFSETFROM:-0600
TZOFFSETTO:-0500
TZNAME:CDT
DTSTART:20240310T080000
END:DAYLIGHT
BEGIN:STANDARD
TZOFFSETFROM:-0500
TZOFFSETTO:-0600
TZNAME:CST
DTSTART:20241103T070000
END:STANDARD
BEGIN:DAYLIGHT
TZOFFSETFROM:-0600
TZOFFSETTO:-0500
TZNAME:CDT
DTSTART:20250309T080000
END:DAYLIGHT
BEGIN:STANDARD
TZOFFSETFROM:-0500
TZOFFSETTO:-0600
TZNAME:CST
DTSTART:20251102T070000
END:STANDARD
BEGIN:DAYLIGHT
TZOFFSETFROM:-0600
TZOFFSETTO:-0500
TZNAME:CDT
DTSTART:20260308T080000
END:DAYLIGHT
BEGIN:STANDARD
TZOFFSETFROM:-0500
TZOFFSETTO:-0600
TZNAME:CST
DTSTART:20261101T070000
END:STANDARD
BEGIN:DAYLIGHT
TZOFFSETFROM:-0600
TZOFFSETTO:-0500
TZNAME:CDT
DTSTART:20270314T080000
END:DAYLIGHT
BEGIN:STANDARD
TZOFFSETFROM:-0500
TZOFFSETTO:-0600
TZNAME:CST
DTSTART:20271107T070000
END:STANDARD
END:VTIMEZONE
BEGIN:VEVENT
DTSTART;TZID=America/Chicago:20260226T110000
DTEND;TZID=America/Chicago:20260226T123000
DTSTAMP:20260422T174131
CREATED:20260217T195853Z
LAST-MODIFIED:20260217T195929Z
UID:10003687-1772103600-1772109000@www.wispro.org
SUMMARY:Gateway to Research: Partnering with NASA Research Centers
DESCRIPTION:Virtual Outreach Event for Small Businesses Hosted by NASA Research Centers (Glenn\, Langley\, Ames\, Armstrong) \n\n\n\nVirtual Outreach Event for Small Businesses \nHosted by NASA Research Centers (Glenn\, Langley\, Ames\, Armstrong) \nSmall businesses play a vital role in advancing NASA’s mission. Whether you’re an emerging entrepreneur or an established small business seeking new opportunities\, understanding how to navigate the federal contracting landscape is essential. NASA’s continued leadership in space exploration\, scientific discovery\, and cutting‑edge research depends on the innovation and agility that small businesses bring. \nGateway to Research is designed to help you chart a clear path toward partnering with NASA Research Centers. During this virtual session\, you will: \n\nLearn how to effectively engage with NASA’s research ecosystem\nExplore opportunities to collaborate on groundbreaking technologies and scientific advancements\nUnderstand how to identify research needs that align with your capabilities\nGain insight into procurement processes and resources available to small businesses\nDiscover how your company can contribute to NASA’s strategic goals in aerospace\, technology\, and related fields\n\nWhether you’re new to federal contracting or looking to expand your footprint within NASA\, this webinar will provide valuable guidance to help you move forward with confidence. \nJoin us to unlock new possibilities\, strengthen your competitive edge\, and take the next step toward meaningful collaboration with NASA Research Centers. \nTo learn more\, click here.
URL:https://www.wispro.org/event/gateway-to-research-partnering-with-nasa-research-centers-2026-02-26/
CATEGORIES:Virtual Event/ Webinar,WPI Partner Events
ATTACH;FMTTYPE=image/jpeg:https://www.wispro.org/wp-content/uploads/2026/02/2026-NASA-Gateway-to-Research-Centers-e1771358307175.jpg
END:VEVENT
BEGIN:VEVENT
DTSTART;TZID=America/Chicago:20250521T120000
DTEND;TZID=America/Chicago:20250521T133000
DTSTAMP:20260422T174131
CREATED:20250505T133222Z
LAST-MODIFIED:20250505T133254Z
UID:10002697-1747828800-1747834200@www.wispro.org
SUMMARY:Marketing to NASA: Strategies for Small Business Success
DESCRIPTION:As NASA continues to innovate in the space exploration\, scientific\, and research industries\, small businesses will be critical to its success. Small business owners know the ins and outs of their company like the back of their hand. Some who are just starting a business\, might feel totally lost. Knowing where to turn for advice in moving your business forward is vitally important to its success. \nIn the “Marketing to NASA: Strategies for Small Business Success” webinar\, small business owners will gain valuable insights into effectively positioning their products and services to capture NASA’s attention. Participants will learn strategic approaches to crafting compelling marketing messages tailored to NASA’s unique needs and priorities. The session will cover key topics such as understanding NASA’s procurement process\, identifying decision-makers within NASA\, leveraging small business certifications\, and aligning marketing efforts with NASA’s mission goals. Small businesses will leave equipped with practical strategies and tools to enhance their visibility\, engage effectively with NASA program managers\, and ultimately increase their chances of securing contracts with the agency. \nClick here to learn more and register.
URL:https://www.wispro.org/event/marketing-to-nasa-strategies-for-small-business-success/
CATEGORIES:In State,Virtual Event/ Webinar,Workshop,WPI Partner Events
ATTACH;FMTTYPE=image/png:https://www.wispro.org/wp-content/uploads/2025/05/Marketing-to-NASA-e1746452005370.png
END:VEVENT
BEGIN:VEVENT
DTSTART;TZID=America/Chicago:20211007T090000
DTEND;TZID=America/Chicago:20211007T160000
DTSTAMP:20260422T174131
CREATED:20211001T231653Z
LAST-MODIFIED:20211001T231653Z
UID:10002612-1633597200-1633622400@www.wispro.org
SUMMARY:NASA Small Business Opportunities Expo
DESCRIPTION:The NASA Small Business Opportunities Virtual Expo 2021 will be held on Thursday\, October 7\, 9:00 AM – 4:00 PM. \n  \nThe Virtual Expo with industry-specific networking rooms is sponsored by the NASA Office of Small Business Programs (OSBP). This year the Expo will host an overview of the Artemis program to include technical and contractor panels and afternoon industry-specific networking rooms. The below businesses should consider attending: \n\nSmall Businesses who want to do business with NASA.\nSocio-economic Categories: WOSB\, HUBZone\, and SDVOSB.\nSmall Businesses who want to meet and network with NASA Prime Contractors.\nLarge Contractors seeking teaming opportunities with Small Businesses.\nConstruction companies interested in learning more about NASA contract opportunities.\n\nTo contact the organizer\, please use the “Contact” button on the EventBrite page. \n  \nPlease click HERE to register. \n 
URL:https://www.wispro.org/event/nasa-small-business-opportunities-expo/
CATEGORIES:WPI Partner Events
ATTACH;FMTTYPE=image/png:https://www.wispro.org/wp-content/uploads/2024/03/Website-Partner-Event-Header-19.png
END:VEVENT
END:VCALENDAR