BEGIN:VCALENDAR
VERSION:2.0
PRODID:-//Wisconsin Procurement Institute - ECPv6.15.17.1//NONSGML v1.0//EN
CALSCALE:GREGORIAN
METHOD:PUBLISH
X-WR-CALNAME:Wisconsin Procurement Institute
X-ORIGINAL-URL:https://www.wispro.org
X-WR-CALDESC:Events for Wisconsin Procurement Institute
REFRESH-INTERVAL;VALUE=DURATION:PT1H
X-Robots-Tag:noindex
X-PUBLISHED-TTL:PT1H
BEGIN:VTIMEZONE
TZID:America/Chicago
BEGIN:DAYLIGHT
TZOFFSETFROM:-0600
TZOFFSETTO:-0500
TZNAME:CDT
DTSTART:20210314T080000
END:DAYLIGHT
BEGIN:STANDARD
TZOFFSETFROM:-0500
TZOFFSETTO:-0600
TZNAME:CST
DTSTART:20211107T070000
END:STANDARD
BEGIN:DAYLIGHT
TZOFFSETFROM:-0600
TZOFFSETTO:-0500
TZNAME:CDT
DTSTART:20220313T080000
END:DAYLIGHT
BEGIN:STANDARD
TZOFFSETFROM:-0500
TZOFFSETTO:-0600
TZNAME:CST
DTSTART:20221106T070000
END:STANDARD
BEGIN:DAYLIGHT
TZOFFSETFROM:-0600
TZOFFSETTO:-0500
TZNAME:CDT
DTSTART:20230312T080000
END:DAYLIGHT
BEGIN:STANDARD
TZOFFSETFROM:-0500
TZOFFSETTO:-0600
TZNAME:CST
DTSTART:20231105T070000
END:STANDARD
END:VTIMEZONE
BEGIN:VEVENT
DTSTART;VALUE=DATE:20220310
DTEND;VALUE=DATE:20220311
DTSTAMP:20260425T103542
CREATED:20210819T010033Z
LAST-MODIFIED:20210819T010033Z
UID:10002598-1646870400-1646956799@www.wispro.org
SUMMARY:Midwest Aerospace Conference 2021
DESCRIPTION:  \nThe Midwest Aerospace Conference (MAC) 2021 will be held on March 10\, 2022 at the Larry Morrissey Conference Center in the Embassy Suites (416 S. Main Street\, Rockford\, IL 61101). \nMAC2021 is continuing to strengthen supply chains\, create connections\, and share relevant information key to the aerospace industry through this event by featuring workshops\, matchmaking\, exhibitions\, and presentations tackling key topics in the aerospace industry from cybersecurity to supply chain development. \nThose interested in attending can register by clicking here. \n 
URL:https://www.wispro.org/event/midwest-aerospace-conference-2021/
CATEGORIES:WPI Partner Events
ATTACH;FMTTYPE=image/png:https://www.wispro.org/wp-content/uploads/2024/03/Website-Partner-Event-Header-14.png
ORGANIZER;CN="Rockford Area Aerospace Network":MAILTO:agarrison@rockfordil.com
END:VEVENT
END:VCALENDAR