BEGIN:VCALENDAR
VERSION:2.0
PRODID:-//Wisconsin Procurement Institute - ECPv6.15.17.1//NONSGML v1.0//EN
CALSCALE:GREGORIAN
METHOD:PUBLISH
X-WR-CALNAME:Wisconsin Procurement Institute
X-ORIGINAL-URL:https://www.wispro.org
X-WR-CALDESC:Events for Wisconsin Procurement Institute
REFRESH-INTERVAL;VALUE=DURATION:PT1H
X-Robots-Tag:noindex
X-PUBLISHED-TTL:PT1H
BEGIN:VTIMEZONE
TZID:America/Chicago
BEGIN:DAYLIGHT
TZOFFSETFROM:-0600
TZOFFSETTO:-0500
TZNAME:CDT
DTSTART:20210314T080000
END:DAYLIGHT
BEGIN:STANDARD
TZOFFSETFROM:-0500
TZOFFSETTO:-0600
TZNAME:CST
DTSTART:20211107T070000
END:STANDARD
BEGIN:DAYLIGHT
TZOFFSETFROM:-0600
TZOFFSETTO:-0500
TZNAME:CDT
DTSTART:20220313T080000
END:DAYLIGHT
BEGIN:STANDARD
TZOFFSETFROM:-0500
TZOFFSETTO:-0600
TZNAME:CST
DTSTART:20221106T070000
END:STANDARD
BEGIN:DAYLIGHT
TZOFFSETFROM:-0600
TZOFFSETTO:-0500
TZNAME:CDT
DTSTART:20230312T080000
END:DAYLIGHT
BEGIN:STANDARD
TZOFFSETFROM:-0500
TZOFFSETTO:-0600
TZNAME:CST
DTSTART:20231105T070000
END:STANDARD
BEGIN:DAYLIGHT
TZOFFSETFROM:-0600
TZOFFSETTO:-0500
TZNAME:CDT
DTSTART:20240310T080000
END:DAYLIGHT
BEGIN:STANDARD
TZOFFSETFROM:-0500
TZOFFSETTO:-0600
TZNAME:CST
DTSTART:20241103T070000
END:STANDARD
END:VTIMEZONE
BEGIN:VEVENT
DTSTART;TZID=America/Chicago:20231208T103000
DTEND;TZID=America/Chicago:20231208T203000
DTSTAMP:20260419T092426
CREATED:20230808T012147Z
LAST-MODIFIED:20230808T012147Z
UID:10002912-1702031400-1702067400@www.wispro.org
SUMMARY:Black & Diverse Business Showcase
DESCRIPTION:The 2nd Annual Black & Diverse Business Showcase is coming to the Baird Center in December! The event will take place from 10:30 am to 8:30 pm and will feature a variety of retail product and service vendors. Attendees also have the chance to learn about government and corporate contracting. Don’t miss your opportunity on December 8th to come and see what the showcase has to offer! \nFor more event information\, please visit: https://www.twbcc.com/black-diverse-business-showcase 
URL:https://www.wispro.org/event/black-diverse-business-showcase/
LOCATION:The Baird Center\, 400 W. Wisconsin Ave.\, Milwaukee\, WI\, 53203
CATEGORIES:In State,WPI Partner Events
ATTACH;FMTTYPE=image/png:https://www.wispro.org/wp-content/uploads/2024/02/Website-Graphics-3.png
ORGANIZER;CN="The Wisconsin Black Chamber of Commerce%2C Inc.":MAILTO:admin@twbcc.com
END:VEVENT
BEGIN:VEVENT
DTSTART;TZID=America/Chicago:20221207T080000
DTEND;TZID=America/Chicago:20221207T200000
DTSTAMP:20260419T092426
CREATED:20221108T005148Z
LAST-MODIFIED:20221108T005148Z
UID:10002811-1670400000-1670443200@www.wispro.org
SUMMARY:The Wisconsin Black Chamber of Commerce\, Inc. - Black & Diverse Business Showcase
DESCRIPTION:The Wisconsin Black Chamber of Commerce presents the Black and Diverse Business Showcase on Wednesday\, December 7\, 2022 from 8 AM – 8 PM at The Wisconsin Center in Milwaukee\, Wisconsin. Click here to register and to read more. \nThe Showcase will feature a full day of programing\, workshops\, and networking opportunities. New and growing minority\, woman\, veteran\, and LGBTQ+ owned businesses will learn how to prepare their businesses for the Government markets. The workshops will feature area government representatives and business professionals. In addition\, the workshops will also feature resource providers on topics including accounting\, finance\, locating financing\, certifications\, compliance\, sales/marketing\, business management\, and more. \nFor the full agenda\, please click here.
URL:https://www.wispro.org/event/wbcc-black-diverse-business-showcase/
LOCATION:The Baird Center\, 400 W. Wisconsin Ave.\, Milwaukee\, WI\, 53203
CATEGORIES:Conference,WPI Events
ATTACH;FMTTYPE=image/png:https://www.wispro.org/wp-content/uploads/2024/03/sba-cyber-summit-1.png
ORGANIZER;CN="The Wisconsin Black Chamber of Commerce%2C Inc.":MAILTO:admin@twbcc.com
END:VEVENT
END:VCALENDAR