BEGIN:VCALENDAR
VERSION:2.0
PRODID:-//Wisconsin Procurement Institute - ECPv6.15.17.1//NONSGML v1.0//EN
CALSCALE:GREGORIAN
METHOD:PUBLISH
X-ORIGINAL-URL:https://www.wispro.org
X-WR-CALDESC:Events for Wisconsin Procurement Institute
REFRESH-INTERVAL;VALUE=DURATION:PT1H
X-Robots-Tag:noindex
X-PUBLISHED-TTL:PT1H
BEGIN:VTIMEZONE
TZID:America/Chicago
BEGIN:DAYLIGHT
TZOFFSETFROM:-0600
TZOFFSETTO:-0500
TZNAME:CDT
DTSTART:20210314T080000
END:DAYLIGHT
BEGIN:STANDARD
TZOFFSETFROM:-0500
TZOFFSETTO:-0600
TZNAME:CST
DTSTART:20211107T070000
END:STANDARD
BEGIN:DAYLIGHT
TZOFFSETFROM:-0600
TZOFFSETTO:-0500
TZNAME:CDT
DTSTART:20220313T080000
END:DAYLIGHT
BEGIN:STANDARD
TZOFFSETFROM:-0500
TZOFFSETTO:-0600
TZNAME:CST
DTSTART:20221106T070000
END:STANDARD
BEGIN:DAYLIGHT
TZOFFSETFROM:-0600
TZOFFSETTO:-0500
TZNAME:CDT
DTSTART:20230312T080000
END:DAYLIGHT
BEGIN:STANDARD
TZOFFSETFROM:-0500
TZOFFSETTO:-0600
TZNAME:CST
DTSTART:20231105T070000
END:STANDARD
END:VTIMEZONE
BEGIN:VEVENT
DTSTART;TZID=America/Chicago:20220323T120000
DTEND;TZID=America/Chicago:20220323T140000
DTSTAMP:20260419T131216
CREATED:20220322T015351Z
LAST-MODIFIED:20220322T015351Z
UID:10002237-1648036800-1648044000@www.wispro.org
SUMMARY:USDA WOSB Connections Event
DESCRIPTION:The U.S. Department of Agriculture\, Office of Small and Disadvantaged Business Utilization (OSDBU) will be hosting a Business Connections Event for Woman-Owned Small Businesses on March 23\, 12:00 – 2:00 PM. Please click here to register. \nThis informational session will focus on WOSBs and provide small businesses with an opportunity to learn how to build capacity and successfully do business with USDA. \n 
URL:https://www.wispro.org/event/usda-wosb-connections-event/
CATEGORIES:WPI Partner Events
ATTACH;FMTTYPE=image/png:https://www.wispro.org/wp-content/uploads/2024/03/Website-Event-Image-26.png
ORGANIZER;CN="USDA Office of Small and Disadvantaged Business Utilization":MAILTO:Roxanne.Lane@usda.gov
END:VEVENT
END:VCALENDAR