BEGIN:VCALENDAR
VERSION:2.0
PRODID:-//Wisconsin Procurement Institute - ECPv6.15.17.1//NONSGML v1.0//EN
CALSCALE:GREGORIAN
METHOD:PUBLISH
X-WR-CALNAME:Wisconsin Procurement Institute
X-ORIGINAL-URL:https://www.wispro.org
X-WR-CALDESC:Events for Wisconsin Procurement Institute
REFRESH-INTERVAL;VALUE=DURATION:PT1H
X-Robots-Tag:noindex
X-PUBLISHED-TTL:PT1H
BEGIN:VTIMEZONE
TZID:America/Chicago
BEGIN:DAYLIGHT
TZOFFSETFROM:-0600
TZOFFSETTO:-0500
TZNAME:CDT
DTSTART:20210314T080000
END:DAYLIGHT
BEGIN:STANDARD
TZOFFSETFROM:-0500
TZOFFSETTO:-0600
TZNAME:CST
DTSTART:20211107T070000
END:STANDARD
BEGIN:DAYLIGHT
TZOFFSETFROM:-0600
TZOFFSETTO:-0500
TZNAME:CDT
DTSTART:20220313T080000
END:DAYLIGHT
BEGIN:STANDARD
TZOFFSETFROM:-0500
TZOFFSETTO:-0600
TZNAME:CST
DTSTART:20221106T070000
END:STANDARD
BEGIN:DAYLIGHT
TZOFFSETFROM:-0600
TZOFFSETTO:-0500
TZNAME:CDT
DTSTART:20230312T080000
END:DAYLIGHT
BEGIN:STANDARD
TZOFFSETFROM:-0500
TZOFFSETTO:-0600
TZNAME:CST
DTSTART:20231105T070000
END:STANDARD
BEGIN:DAYLIGHT
TZOFFSETFROM:-0600
TZOFFSETTO:-0500
TZNAME:CDT
DTSTART:20240310T080000
END:DAYLIGHT
BEGIN:STANDARD
TZOFFSETFROM:-0500
TZOFFSETTO:-0600
TZNAME:CST
DTSTART:20241103T070000
END:STANDARD
BEGIN:DAYLIGHT
TZOFFSETFROM:-0600
TZOFFSETTO:-0500
TZNAME:CDT
DTSTART:20250309T080000
END:DAYLIGHT
BEGIN:STANDARD
TZOFFSETFROM:-0500
TZOFFSETTO:-0600
TZNAME:CST
DTSTART:20251102T070000
END:STANDARD
END:VTIMEZONE
BEGIN:VEVENT
DTSTART;VALUE=DATE:20241028
DTEND;VALUE=DATE:20241031
DTSTAMP:20260419T114302
CREATED:20240822T133704Z
LAST-MODIFIED:20240822T134317Z
UID:10003240-1730073600-1730332799@www.wispro.org
SUMMARY:2024 Wisconsin Governor's Cybersecurity Summit Agenda - Appleton\, WI
DESCRIPTION:The Wisconsin Governor’s Cybersecurity Summit is an opportunity for professionals to broaden their awareness of cybersecurity threats and learn how the industry continues to proactively meet challenges and protect the virtual world. The Summit provides opportunities for presenters to connect with attendees. There is availability for those who would like to speak on technical\, organizational\, and research-based topics that are critical to the cyber-threat landscape during hour long break-out sessions (Speaker selections will be confirmed no later than September 1\, 2024). There will also be multiple 2024 Wisconsin Governor’s Cybersecurity Summit sponsorship and exhibitor opportunities offered. \nFor more information\, click here.
URL:https://www.wispro.org/event/2024-wisconsin-governors-cybersecurity-summit-agenda/
LOCATION:Fox Cities Exhibition Center\, 213 S. Nicolet Road\, Appleton\, WI\, 54914
CATEGORIES:In State,WPI Partner Events
ATTACH;FMTTYPE=image/png:https://www.wispro.org/wp-content/uploads/2024/08/Website-Graphics-3.png
END:VEVENT
BEGIN:VEVENT
DTSTART;TZID=America/Chicago:20240131T113000
DTEND;TZID=America/Chicago:20240131T113000
DTSTAMP:20260419T114302
CREATED:20231221T205313Z
LAST-MODIFIED:20231221T205313Z
UID:10003106-1706700600-1706700600@www.wispro.org
SUMMARY:DOA Veterans Small Business Roundtable
DESCRIPTION:Join the Wisconsin Department of Administration\, the Wisconsin Department of Veterans Affairs\, the Wisconsin Department of Workforce Development\, and DAV-Wisconsin in a free roundtable event to highlight resources available for service-disabled veteran-owned small businesses\, principally through the Wisconsin Supplier Diversity program. The Wisconsin Supplier Diversity program certifies service-disabled veteran-owned businesses to provide better opportunities for doing business with the State. The roundtable will share resources for veteran entrepreneurs\, explain the process of getting certified as a diverse supplier\, and outline how getting certified can benefit a business. \nFind out about some of the resources and opportunities available with the State of Wisconsin. Learn the process and benefits of getting your business certified as a diverse supplier. Get your questions answered in the live question-and-answer segment. \nMore information can be found here.
URL:https://www.wispro.org/event/doa-veterans-small-business-roundtable/
CATEGORIES:WPI Partner Events
ATTACH;FMTTYPE=image/png:https://www.wispro.org/wp-content/uploads/2024/02/Website-Graphics-2-2.png
END:VEVENT
BEGIN:VEVENT
DTSTART;TZID=America/Chicago:20221023T090000
DTEND;TZID=America/Chicago:20221025T130000
DTSTAMP:20260419T114302
CREATED:20220825T004746Z
LAST-MODIFIED:20220825T004746Z
UID:10002264-1666515600-1666702800@www.wispro.org
SUMMARY:2022 Wisconsin Governor’s Cybersecurity Summit
DESCRIPTION:Registration is now open for the 2022 Wisconsin Governor’s Cybersecurity Summit held October 23-25 at the Wilderness Resort – Glacier Canyon Conference Center in Wisconsin Dells. To register\, please click here. \nThis annual summit brings together national cybersecurity experts\, government and academic leaders\, and the business community to build relationships while sharing knowledge and experience. The agenda includes keynote speakers on issues such as the impact of cyber attacks on supply chains\, along with breakout sessions focused on topics that include cybersecurity in education\, government agencies\, and the private sector. To view the full event agenda\, please click here.
URL:https://www.wispro.org/event/2022-wisconsin-governors-cybersecurity-summit/
LOCATION:Wilderness Resort\, 511 E Adams St.\, Wisconsin Dells\, WI\, 53965\, United States
CATEGORIES:In State,WPI Partner Events
ATTACH;FMTTYPE=image/png:https://www.wispro.org/wp-content/uploads/2024/03/Website-Event-Image-4-1.png
END:VEVENT
END:VCALENDAR