BEGIN:VCALENDAR
VERSION:2.0
PRODID:-//Wisconsin Procurement Institute - ECPv6.15.17.1//NONSGML v1.0//EN
CALSCALE:GREGORIAN
METHOD:PUBLISH
X-ORIGINAL-URL:https://www.wispro.org
X-WR-CALDESC:Events for Wisconsin Procurement Institute
REFRESH-INTERVAL;VALUE=DURATION:PT1H
X-Robots-Tag:noindex
X-PUBLISHED-TTL:PT1H
BEGIN:VTIMEZONE
TZID:America/Chicago
BEGIN:DAYLIGHT
TZOFFSETFROM:-0600
TZOFFSETTO:-0500
TZNAME:CDT
DTSTART:20210314T080000
END:DAYLIGHT
BEGIN:STANDARD
TZOFFSETFROM:-0500
TZOFFSETTO:-0600
TZNAME:CST
DTSTART:20211107T070000
END:STANDARD
BEGIN:DAYLIGHT
TZOFFSETFROM:-0600
TZOFFSETTO:-0500
TZNAME:CDT
DTSTART:20220313T080000
END:DAYLIGHT
BEGIN:STANDARD
TZOFFSETFROM:-0500
TZOFFSETTO:-0600
TZNAME:CST
DTSTART:20221106T070000
END:STANDARD
BEGIN:DAYLIGHT
TZOFFSETFROM:-0600
TZOFFSETTO:-0500
TZNAME:CDT
DTSTART:20230312T080000
END:DAYLIGHT
BEGIN:STANDARD
TZOFFSETFROM:-0500
TZOFFSETTO:-0600
TZNAME:CST
DTSTART:20231105T070000
END:STANDARD
BEGIN:DAYLIGHT
TZOFFSETFROM:-0600
TZOFFSETTO:-0500
TZNAME:CDT
DTSTART:20240310T080000
END:DAYLIGHT
BEGIN:STANDARD
TZOFFSETFROM:-0500
TZOFFSETTO:-0600
TZNAME:CST
DTSTART:20241103T070000
END:STANDARD
END:VTIMEZONE
BEGIN:VEVENT
DTSTART;TZID=America/Chicago:20231109T090000
DTEND;TZID=America/Chicago:20231109T153000
DTSTAMP:20260425T052120
CREATED:20231102T211803Z
LAST-MODIFIED:20231102T211803Z
UID:10003095-1699520400-1699543800@www.wispro.org
SUMMARY:WidDOT DBE Roundtable 3.0
DESCRIPTION:The Wisconsin Department of Transportation (WisDOT) will be hosting the Disadvantaged Business Enterprise (DBE) Roundtable 3.0 on November 9th. \nThe program will feature multiple educational sessions and featured speakers from WisDOT and other industry leaders.
URL:https://www.wispro.org/event/widdot-dbe-roundtable-3-0/
LOCATION:Contracting Basics for Small Businesses
CATEGORIES:In State,WPI Partner Events
ATTACH;FMTTYPE=image/png:https://www.wispro.org/wp-content/uploads/2024/02/Website-Graphics-13.png
ORGANIZER;CN="WisDOT":MAILTO:transportationelectrification@dot.wi.gov
END:VEVENT
BEGIN:VEVENT
DTSTART;TZID=America/Chicago:20220622T100000
DTEND;TZID=America/Chicago:20220623T100000
DTSTAMP:20260425T052120
CREATED:20220620T234609Z
LAST-MODIFIED:20220620T234609Z
UID:10002758-1655892000-1655978400@www.wispro.org
SUMMARY:WisDOT - Electric Vehicle Infrastructure Webinar
DESCRIPTION:The Wisconsin Department of Transportation is hosting two webinars to discuss how WisDOT intends spend the approximately $78 million the state will received from the National Electric Vehicle Infrastructure program in order to expand access to electric vehicle charging stations. No registration is necessary. Click the below links to join. \n  \nJune 21\, 5:00 – 6:00 PM: https://www.pima.wisconsindot.gov/public/event-registration/search?project_id=14407&pe_guid=3fb87110-ac3c-4cb0-ba79-4dfaa5c857c3 \nJune 22\, 10:00 – 11:00 AM: https://www.pima.wisconsindot.gov/public/event-registration/search?project_id=14407&pe_guid=cbf65b0a-391b-43cc-b270-64f9751ede27  \n  \nToday most EV charging is accomplished at home. To support long distance trips and overcome range anxiety\, these dollars will be used to fund a network of publicly accessible charging stations along Wisconsin’s Alternative Fuel Corridors. \nTo meet this goal\, WisDOT kicked off both a statewide transportation electrification planning study (January 2022) and more recently the federally required Wisconsin Electric Vehicle Infrastructure (WEVI) Plan development process (March 2022). These efforts will define a comprehensive strategy and action plan to facilitate the electrification of Wisconsin’s transportation system and assess potential agency actions that advance EVs and the deployment of EV charging infrastructure. Finally\, the Plan will include recommendations on how Wisconsin will administer $78.65 million in federal funding over the next five years through a competitive grant program that will meet the NEVI program standards. \n 
URL:https://www.wispro.org/event/wisdot-electric-vehicle-infrastructure-webinar/2022-06-22/
CATEGORIES:WPI Partner Events
ATTACH;FMTTYPE=image/png:https://www.wispro.org/wp-content/uploads/2024/03/Website-Event-Image-36.png
ORGANIZER;CN="WisDOT":MAILTO:transportationelectrification@dot.wi.gov
END:VEVENT
BEGIN:VEVENT
DTSTART;TZID=America/Chicago:20220621T170000
DTEND;TZID=America/Chicago:20220621T180000
DTSTAMP:20260425T052120
CREATED:20220620T234609Z
LAST-MODIFIED:20220620T234609Z
UID:10002757-1655830800-1655834400@www.wispro.org
SUMMARY:WisDOT - Electric Vehicle Infrastructure Webinar
DESCRIPTION:The Wisconsin Department of Transportation is hosting two webinars to discuss how WisDOT intends spend the approximately $78 million the state will received from the National Electric Vehicle Infrastructure program in order to expand access to electric vehicle charging stations. No registration is necessary. Click the below links to join. \n  \nJune 21\, 5:00 – 6:00 PM: https://www.pima.wisconsindot.gov/public/event-registration/search?project_id=14407&pe_guid=3fb87110-ac3c-4cb0-ba79-4dfaa5c857c3 \nJune 22\, 10:00 – 11:00 AM: https://www.pima.wisconsindot.gov/public/event-registration/search?project_id=14407&pe_guid=cbf65b0a-391b-43cc-b270-64f9751ede27  \n  \nToday most EV charging is accomplished at home. To support long distance trips and overcome range anxiety\, these dollars will be used to fund a network of publicly accessible charging stations along Wisconsin’s Alternative Fuel Corridors. \nTo meet this goal\, WisDOT kicked off both a statewide transportation electrification planning study (January 2022) and more recently the federally required Wisconsin Electric Vehicle Infrastructure (WEVI) Plan development process (March 2022). These efforts will define a comprehensive strategy and action plan to facilitate the electrification of Wisconsin’s transportation system and assess potential agency actions that advance EVs and the deployment of EV charging infrastructure. Finally\, the Plan will include recommendations on how Wisconsin will administer $78.65 million in federal funding over the next five years through a competitive grant program that will meet the NEVI program standards. \n 
URL:https://www.wispro.org/event/wisdot-electric-vehicle-infrastructure-webinar/2022-06-21/
CATEGORIES:WPI Partner Events
ATTACH;FMTTYPE=image/png:https://www.wispro.org/wp-content/uploads/2024/03/Website-Event-Image-36.png
ORGANIZER;CN="WisDOT":MAILTO:transportationelectrification@dot.wi.gov
END:VEVENT
END:VCALENDAR