BEGIN:VCALENDAR
VERSION:2.0
PRODID:-//Wisconsin Procurement Institute - ECPv6.15.17.1//NONSGML v1.0//EN
CALSCALE:GREGORIAN
METHOD:PUBLISH
X-WR-CALNAME:Wisconsin Procurement Institute
X-ORIGINAL-URL:https://www.wispro.org
X-WR-CALDESC:Events for Wisconsin Procurement Institute
REFRESH-INTERVAL;VALUE=DURATION:PT1H
X-Robots-Tag:noindex
X-PUBLISHED-TTL:PT1H
BEGIN:VTIMEZONE
TZID:America/Chicago
BEGIN:DAYLIGHT
TZOFFSETFROM:-0600
TZOFFSETTO:-0500
TZNAME:CDT
DTSTART:20230312T080000
END:DAYLIGHT
BEGIN:STANDARD
TZOFFSETFROM:-0500
TZOFFSETTO:-0600
TZNAME:CST
DTSTART:20231105T070000
END:STANDARD
BEGIN:DAYLIGHT
TZOFFSETFROM:-0600
TZOFFSETTO:-0500
TZNAME:CDT
DTSTART:20240310T080000
END:DAYLIGHT
BEGIN:STANDARD
TZOFFSETFROM:-0500
TZOFFSETTO:-0600
TZNAME:CST
DTSTART:20241103T070000
END:STANDARD
BEGIN:DAYLIGHT
TZOFFSETFROM:-0600
TZOFFSETTO:-0500
TZNAME:CDT
DTSTART:20250309T080000
END:DAYLIGHT
BEGIN:STANDARD
TZOFFSETFROM:-0500
TZOFFSETTO:-0600
TZNAME:CST
DTSTART:20251102T070000
END:STANDARD
END:VTIMEZONE
BEGIN:VEVENT
DTSTART;VALUE=DATE:20241120
DTEND;VALUE=DATE:20241123
DTSTAMP:20260420T032200
CREATED:20240130T231015Z
LAST-MODIFIED:20240325T195718Z
UID:10003163-1732060800-1732319999@www.wispro.org
SUMMARY:SAME 2024 Federal Small Business Conference for the A/E/C Industry - New Orleans\, LA
DESCRIPTION:Connect with a community of leading experts\, decision-makers\, solution providers\, business partners\, and federal contracting officers. There will be opportunities to connect with teaming partners\, compete in federal acquisition\, support the nation’s contracting goals. and engage in above-board networking between private companies and federal program managers and procurement/contracting officers \nAt SBC: \nSmall Businesses can… \n\nLearn from experienced companies in education sessions\nHear from and meet with government contracting officers about projects to compete for\nMeet with large companies that need subcontracting support\n\nLarge Businesses can… \n\nMeet with small business as potential subcontractors\nMentor small businesses through protégé agreements\nPosition as thought leaders and advocates for small businesses through exhibiting and presenting\n\nGovernment Agencies can… \n\nConduct market research of industry capacity to help set acquisition strategy\nDiscover innovations and trends from suppliers and providers\nConnect with and learn from other agencies on how they do business and work to increase standardization of processes among government for the benefit of industry and competition\n\nFor more information\, click here.
URL:https://www.wispro.org/event/same-2024-federal-small-business-conference-for-the-a-e-c-industry/
LOCATION:Ernest N. Morial Convention Center\, 900 Convention Center Blvd\, New Orleans\, LA\, 70130\, United States
CATEGORIES:Out of State,WPI Partner Events
ATTACH;FMTTYPE=image/png:https://www.wispro.org/wp-content/uploads/2024/02/SAME-logo.png
ORGANIZER;CN="SAME":MAILTO:registration@same.org
END:VEVENT
END:VCALENDAR