BEGIN:VCALENDAR
VERSION:2.0
PRODID:-//Wisconsin Procurement Institute - ECPv6.15.17.1//NONSGML v1.0//EN
CALSCALE:GREGORIAN
METHOD:PUBLISH
X-WR-CALNAME:Wisconsin Procurement Institute
X-ORIGINAL-URL:https://www.wispro.org
X-WR-CALDESC:Events for Wisconsin Procurement Institute
REFRESH-INTERVAL;VALUE=DURATION:PT1H
X-Robots-Tag:noindex
X-PUBLISHED-TTL:PT1H
BEGIN:VTIMEZONE
TZID:America/Chicago
BEGIN:DAYLIGHT
TZOFFSETFROM:-0600
TZOFFSETTO:-0500
TZNAME:CDT
DTSTART:20210314T080000
END:DAYLIGHT
BEGIN:STANDARD
TZOFFSETFROM:-0500
TZOFFSETTO:-0600
TZNAME:CST
DTSTART:20211107T070000
END:STANDARD
BEGIN:DAYLIGHT
TZOFFSETFROM:-0600
TZOFFSETTO:-0500
TZNAME:CDT
DTSTART:20220313T080000
END:DAYLIGHT
BEGIN:STANDARD
TZOFFSETFROM:-0500
TZOFFSETTO:-0600
TZNAME:CST
DTSTART:20221106T070000
END:STANDARD
BEGIN:DAYLIGHT
TZOFFSETFROM:-0600
TZOFFSETTO:-0500
TZNAME:CDT
DTSTART:20230312T080000
END:DAYLIGHT
BEGIN:STANDARD
TZOFFSETFROM:-0500
TZOFFSETTO:-0600
TZNAME:CST
DTSTART:20231105T070000
END:STANDARD
BEGIN:DAYLIGHT
TZOFFSETFROM:-0600
TZOFFSETTO:-0500
TZNAME:CDT
DTSTART:20240310T080000
END:DAYLIGHT
BEGIN:STANDARD
TZOFFSETFROM:-0500
TZOFFSETTO:-0600
TZNAME:CST
DTSTART:20241103T070000
END:STANDARD
BEGIN:DAYLIGHT
TZOFFSETFROM:-0600
TZOFFSETTO:-0500
TZNAME:CDT
DTSTART:20250309T080000
END:DAYLIGHT
BEGIN:STANDARD
TZOFFSETFROM:-0500
TZOFFSETTO:-0600
TZNAME:CST
DTSTART:20251102T070000
END:STANDARD
BEGIN:DAYLIGHT
TZOFFSETFROM:-0600
TZOFFSETTO:-0500
TZNAME:CDT
DTSTART:20260308T080000
END:DAYLIGHT
BEGIN:STANDARD
TZOFFSETFROM:-0500
TZOFFSETTO:-0600
TZNAME:CST
DTSTART:20261101T070000
END:STANDARD
BEGIN:DAYLIGHT
TZOFFSETFROM:-0600
TZOFFSETTO:-0500
TZNAME:CDT
DTSTART:20270314T080000
END:DAYLIGHT
BEGIN:STANDARD
TZOFFSETFROM:-0500
TZOFFSETTO:-0600
TZNAME:CST
DTSTART:20271107T070000
END:STANDARD
END:VTIMEZONE
BEGIN:VEVENT
DTSTART;VALUE=DATE:20260407
DTEND;VALUE=DATE:20260409
DTSTAMP:20260419T114106
CREATED:20260115T224613Z
LAST-MODIFIED:20260115T224613Z
UID:10003629-1775520000-1775692799@www.wispro.org
SUMMARY:Wisconsin Governor’s Cybersecurity Summit
DESCRIPTION:The Wisconsin Governor’s Cybersecurity Summit is where the state’s cyber strategy takes shape. \nFor more than a decade\, Wisconsin has led with a proactive\, collaborative approach to protecting its digital infrastructure. This Summit offers focused\, practical content built around real incidents\, lessons learned\, and proven solutions. Attendees hear directly from state leadership\, military and emergency management partners\, CIOs\, CISOs\, and industry experts on the issues most critical to Wisconsin’s cybersecurity posture. This summit equips leaders at every level to work smarter\, respond faster\, and defend the systems residents depend on every day. Protecting Wisconsin isn’t just IT work; it’s public service. Join the partners across the state who are making security stronger\, safer\, and more resilient! \nParticipants gain: \n\nActionable tactics to reduce cyber risk\nCase studies and best practices from Wisconsin agencies and local governments\nThreat intelligence from public and private sector experts\nNetworking with security peers and regional partners\nTools to better protect communities\, services\, and critical systems
URL:https://www.wispro.org/event/wisconsin-governors-cybersecurity-summit/
LOCATION:Fox Cities Exhibition Center\, 213 S. Nicolet Road\, Appleton\, WI\, 54914
CATEGORIES:In Person Event,In State,WPI Partner Events
ATTACH;FMTTYPE=image/jpeg:https://www.wispro.org/wp-content/uploads/2026/01/GT26-Headers-Cybersecurity-Summit-WI-1800x600-1.jpg
END:VEVENT
BEGIN:VEVENT
DTSTART;VALUE=DATE:20241028
DTEND;VALUE=DATE:20241031
DTSTAMP:20260419T114106
CREATED:20240822T133704Z
LAST-MODIFIED:20240822T134317Z
UID:10003240-1730073600-1730332799@www.wispro.org
SUMMARY:2024 Wisconsin Governor's Cybersecurity Summit Agenda - Appleton\, WI
DESCRIPTION:The Wisconsin Governor’s Cybersecurity Summit is an opportunity for professionals to broaden their awareness of cybersecurity threats and learn how the industry continues to proactively meet challenges and protect the virtual world. The Summit provides opportunities for presenters to connect with attendees. There is availability for those who would like to speak on technical\, organizational\, and research-based topics that are critical to the cyber-threat landscape during hour long break-out sessions (Speaker selections will be confirmed no later than September 1\, 2024). There will also be multiple 2024 Wisconsin Governor’s Cybersecurity Summit sponsorship and exhibitor opportunities offered. \nFor more information\, click here.
URL:https://www.wispro.org/event/2024-wisconsin-governors-cybersecurity-summit-agenda/
LOCATION:Fox Cities Exhibition Center\, 213 S. Nicolet Road\, Appleton\, WI\, 54914
CATEGORIES:In State,WPI Partner Events
ATTACH;FMTTYPE=image/png:https://www.wispro.org/wp-content/uploads/2024/08/Website-Graphics-3.png
END:VEVENT
BEGIN:VEVENT
DTSTART;VALUE=DATE:20220920
DTEND;VALUE=DATE:20220922
DTSTAMP:20260419T114106
CREATED:20220726T190541Z
LAST-MODIFIED:20220726T190541Z
UID:10002251-1663632000-1663804799@www.wispro.org
SUMMARY:WEDC Wisconsin Economic Summit
DESCRIPTION:The Wisconsin Economic Development Corporation will be hosting the first ever Wisconsin Economic Summit on September 20-21 at the Fox Cities Exhibition Center\, Appleton. To register\, please click here. \nThe summit brings together leaders throughout Wisconsin. These include: \n\nBusiness and industry leaders\nRepresentatives from industry\, business\, ethnic\, and diverse organizations\nEconomic and community development professionals\, including leaders from regional and local EDOs\, chambers of commerce\, workforce development professionals\, regional planning commissions\, etc.\nAcademics with expertise or an interest in community and economic development\n\nThe agenda for this two-day Summit is designed to be accessible for everyone in the state\, with no more than one night’s hotel stay required. To view the agenda\, please click here.
URL:https://www.wispro.org/event/wisconsin-economic-summit/
LOCATION:Fox Cities Exhibition Center\, 213 S. Nicolet Road\, Appleton\, WI\, 54914
CATEGORIES:In State,WPI Partner Events
ATTACH;FMTTYPE=image/png:https://www.wispro.org/wp-content/uploads/2024/03/Website-Event-Image-42.png
ORGANIZER;CN="Wisconsin Economic Development Corporation":MAILTO:events@wedc.org
END:VEVENT
END:VCALENDAR