BEGIN:VCALENDAR
VERSION:2.0
PRODID:-//Wisconsin Procurement Institute - ECPv6.15.17.1//NONSGML v1.0//EN
CALSCALE:GREGORIAN
METHOD:PUBLISH
X-WR-CALNAME:Wisconsin Procurement Institute
X-ORIGINAL-URL:https://www.wispro.org
X-WR-CALDESC:Events for Wisconsin Procurement Institute
REFRESH-INTERVAL;VALUE=DURATION:PT1H
X-Robots-Tag:noindex
X-PUBLISHED-TTL:PT1H
BEGIN:VTIMEZONE
TZID:America/Chicago
BEGIN:DAYLIGHT
TZOFFSETFROM:-0600
TZOFFSETTO:-0500
TZNAME:CDT
DTSTART:20230312T080000
END:DAYLIGHT
BEGIN:STANDARD
TZOFFSETFROM:-0500
TZOFFSETTO:-0600
TZNAME:CST
DTSTART:20231105T070000
END:STANDARD
BEGIN:DAYLIGHT
TZOFFSETFROM:-0600
TZOFFSETTO:-0500
TZNAME:CDT
DTSTART:20240310T080000
END:DAYLIGHT
BEGIN:STANDARD
TZOFFSETFROM:-0500
TZOFFSETTO:-0600
TZNAME:CST
DTSTART:20241103T070000
END:STANDARD
BEGIN:DAYLIGHT
TZOFFSETFROM:-0600
TZOFFSETTO:-0500
TZNAME:CDT
DTSTART:20250309T080000
END:DAYLIGHT
BEGIN:STANDARD
TZOFFSETFROM:-0500
TZOFFSETTO:-0600
TZNAME:CST
DTSTART:20251102T070000
END:STANDARD
END:VTIMEZONE
BEGIN:VEVENT
DTSTART;TZID=America/Chicago:20240508T170000
DTEND;TZID=America/Chicago:20240508T190000
DTSTAMP:20260420T010300
CREATED:20240405T144431Z
LAST-MODIFIED:20240405T144431Z
UID:10003197-1715187600-1715194800@www.wispro.org
SUMMARY:MMAC Madison Night in Milwaukee (Milwaukee\, WI)
DESCRIPTION:Join business and community leaders at MMAC’s annual reception thanking state elected officials for all the work they do and showcasing the Milwaukee region and its companies.  Working together\, we are making the Southeast Wisconsin region a world-class business location.  This is a chance to connect\, innovate\, and drive change at Madison Night. \nFor more information\, click here.
URL:https://www.wispro.org/event/mmac-madison-night-in-milwaukee-milwaukee-wi/
LOCATION:Harley Davidson Museum\, 400 W. Canal St.\, Milwaukee\, 53201\, United States
CATEGORIES:In State,WPI Partner Events
ATTACH;FMTTYPE=image/png:https://www.wispro.org/wp-content/uploads/2023/05/mmac-stacked-logo-rgb_orig.png
ORGANIZER;CN="MMAC":MAILTO:info@mmac.org
END:VEVENT
END:VCALENDAR