BEGIN:VCALENDAR
VERSION:2.0
PRODID:-//Wisconsin Procurement Institute - ECPv6.15.17.1//NONSGML v1.0//EN
CALSCALE:GREGORIAN
METHOD:PUBLISH
X-ORIGINAL-URL:https://www.wispro.org
X-WR-CALDESC:Events for Wisconsin Procurement Institute
REFRESH-INTERVAL;VALUE=DURATION:PT1H
X-Robots-Tag:noindex
X-PUBLISHED-TTL:PT1H
BEGIN:VTIMEZONE
TZID:America/Chicago
BEGIN:DAYLIGHT
TZOFFSETFROM:-0600
TZOFFSETTO:-0500
TZNAME:CDT
DTSTART:20220313T080000
END:DAYLIGHT
BEGIN:STANDARD
TZOFFSETFROM:-0500
TZOFFSETTO:-0600
TZNAME:CST
DTSTART:20221106T070000
END:STANDARD
BEGIN:DAYLIGHT
TZOFFSETFROM:-0600
TZOFFSETTO:-0500
TZNAME:CDT
DTSTART:20230312T080000
END:DAYLIGHT
BEGIN:STANDARD
TZOFFSETFROM:-0500
TZOFFSETTO:-0600
TZNAME:CST
DTSTART:20231105T070000
END:STANDARD
BEGIN:DAYLIGHT
TZOFFSETFROM:-0600
TZOFFSETTO:-0500
TZNAME:CDT
DTSTART:20240310T080000
END:DAYLIGHT
BEGIN:STANDARD
TZOFFSETFROM:-0500
TZOFFSETTO:-0600
TZNAME:CST
DTSTART:20241103T070000
END:STANDARD
END:VTIMEZONE
BEGIN:VEVENT
DTSTART;TZID=America/Chicago:20230920T143000
DTEND;TZID=America/Chicago:20230920T170000
DTSTAMP:20260425T052329
CREATED:20230223T035514Z
LAST-MODIFIED:20230223T035514Z
UID:10002856-1695220200-1695229200@www.wispro.org
SUMMARY:CONNECT! 2023 Green Bay Packers Mentor-Protege Program Networking Event (in-person)
DESCRIPTION:Onsite registration is available. The event is located inside the Johnsonville Tailgate Village\, which is a separate building located south of the south of the stadium. \nEvent Schedule\n2:30 PM – Registration Opens (enter through the Johnsonville Tailgate Village entrance on the stadium’s south side) \n3:00 PM – Program \nGuest Speaker: Mark Webster\, Principal\, Mark Webster Communication\, BRANDING: FINDING + TELLING YOUR STORY \n2025 NFL Draft: Update on Opportunities – Anna Steinfest\, President/ CEO\, AFF Research LLC \nGovernment-Market Opportunities Update – Aina Vilumsons\, President and Executive Director\, Wisconsin Procurement Institute (WPI) – Wisconsin’s APEX Accelerator \n4:00 PM – Networking & Buyer Meetings \n5:00 PM – Close of Program \n\nThe event will be in two parts: \nPart 1 features our guest speaker\, Mark Webster. Mark will discuss his background and experience working with Fortune 500 global organizations\, why Branding and Purpose matter\, how to create an on-brand message\, and how the Green Bay Packers Mentor-Protege Program fuels this process for its participants. \nPart 2 is reserved for networking. The networking will give businesses an opportunity to network with corporate buyers\, resource providers\, government agencies\, lenders\, and more. We encourage all businesses to bring a CAPABILITIES STATEMENT and BUSINESS CARDS. If you need assistance preparing for buyer meetings\, please contact Jack Laufenberg at JackL@wispro.org or at 414-270-3600 for assistance. \nConfirmed Buyers: \n\nCostco\nBoldt\nMichel’s Corporation\nNortheast Wisconsin Technical College\nUW Green Bay\n\nRepresentatives from both the U.S. Small Business Administration and the Wisconsin Economic Development Corporation will be in attendance. \nFor more information about the Green Bay Packers Mentor-Protégé\, click here. \nTo view the Green Bay Packers’ press release about the event\, click here. \n 
URL:https://www.wispro.org/event/connect-2023-green-bay-packers-mentor-protege-program-networking-event-in-person/
LOCATION:Johnsonville Tailgate Village\, 1265 Lombardi Avenue\, Green Bay\, WI\, 54304\, United States
CATEGORIES:WPI Events
ATTACH;FMTTYPE=image/png:https://www.wispro.org/wp-content/uploads/2024/03/Packers-MPP-Logo-2023-02-17.png
ORGANIZER;CN="Jack L.":MAILTO:JackL@wispro.org
END:VEVENT
END:VCALENDAR