BEGIN:VCALENDAR
VERSION:2.0
PRODID:-//Wisconsin Procurement Institute - ECPv6.15.17.1//NONSGML v1.0//EN
CALSCALE:GREGORIAN
METHOD:PUBLISH
X-WR-CALNAME:Wisconsin Procurement Institute
X-ORIGINAL-URL:https://www.wispro.org
X-WR-CALDESC:Events for Wisconsin Procurement Institute
REFRESH-INTERVAL;VALUE=DURATION:PT1H
X-Robots-Tag:noindex
X-PUBLISHED-TTL:PT1H
BEGIN:VTIMEZONE
TZID:America/Chicago
BEGIN:DAYLIGHT
TZOFFSETFROM:-0600
TZOFFSETTO:-0500
TZNAME:CDT
DTSTART:20230312T080000
END:DAYLIGHT
BEGIN:STANDARD
TZOFFSETFROM:-0500
TZOFFSETTO:-0600
TZNAME:CST
DTSTART:20231105T070000
END:STANDARD
BEGIN:DAYLIGHT
TZOFFSETFROM:-0600
TZOFFSETTO:-0500
TZNAME:CDT
DTSTART:20240310T080000
END:DAYLIGHT
BEGIN:STANDARD
TZOFFSETFROM:-0500
TZOFFSETTO:-0600
TZNAME:CST
DTSTART:20241103T070000
END:STANDARD
BEGIN:DAYLIGHT
TZOFFSETFROM:-0600
TZOFFSETTO:-0500
TZNAME:CDT
DTSTART:20250309T080000
END:DAYLIGHT
BEGIN:STANDARD
TZOFFSETFROM:-0500
TZOFFSETTO:-0600
TZNAME:CST
DTSTART:20251102T070000
END:STANDARD
END:VTIMEZONE
BEGIN:VEVENT
DTSTART;TZID=America/Chicago:20240403T083000
DTEND;TZID=America/Chicago:20240403T113000
DTSTAMP:20260419T114109
CREATED:20240304T233946Z
LAST-MODIFIED:20240402T181437Z
UID:10003180-1712133000-1712143800@www.wispro.org
SUMMARY:Defense Logistics Agency (DLA) and INDUSTRY: Partnering together to enhance the supply chain and mission readiness (Oshkosh)
DESCRIPTION:GUEST SPEAKERS \n\nSusan Depies-Styer\, COL U.S. Army\, Director\, Land Supplier Operations\, DLA Land and Maritime\, Columbus\, Ohio\nDon Schulze\, Deputy Director\, Land Supplier Operations\, DLA Land and Maritime\, Columbus\, Ohio\n[virtual] Matt Elliot\, DLA Small Business Office Representative\n\n\nTOPICS \n\nDoing business with DLA Land and Maritime\nUrgency related to mission readiness and getting parts to the field\nOpportunities for small business\nStrategies put in place to enhance the value of Purchase Requests (PRs) and quantities\, making business with DLA more attractive\n\n\nPROGRAM DETAIL (Central Time) \n\n8:30am – Registration\n9:00am – Welcome by hosts\n9:15am – Brief and comments by Susan Depies-Styer\, COL U.S. Army\, Director\, Land Supplier Operations\, DLA Land and Maritime and Don Schulze\, Deputy Director\, Land Supplier Operations\, DLA Land and Maritime\n10:00am – Brief by Matt Elliott\, DLA Small Business Representative\n10:30am – Briefs on how WPI assists manufacturers\n10:45am – Discussions with DLA and WPI representatives\n11:30am – End of program\n\n\nPARKING AND VENUE NOTES \nParking is available in the Convention Center Riverside Parking Lot or in the Ceape Lot. The skywalk connecting the hotel and convention center is currently locked and not open to cross from the hotel parking structure to the Convention Center. \nCLICK the maps below to view larger.
URL:https://www.wispro.org/event/selling-to-the-defense-logistics-agency-dla-for-manufacturers/
LOCATION:Oshkosh Waterfront Convention Center\, 1 N Main St\, Oshkosh\, WI\, 54901\, United States
CATEGORIES:Conference,WPI Events
ATTACH;FMTTYPE=image/jpeg:https://www.wispro.org/wp-content/uploads/2024/03/DLA_Land_and_Maritime-e1709753890324.jpg
ORGANIZER;CN="Michael Steger":MAILTO:michaels@wispro.org
END:VEVENT
END:VCALENDAR