BEGIN:VCALENDAR
VERSION:2.0
PRODID:-//Wisconsin Procurement Institute - ECPv6.15.17.1//NONSGML v1.0//EN
CALSCALE:GREGORIAN
METHOD:PUBLISH
X-ORIGINAL-URL:https://www.wispro.org
X-WR-CALDESC:Events for Wisconsin Procurement Institute
REFRESH-INTERVAL;VALUE=DURATION:PT1H
X-Robots-Tag:noindex
X-PUBLISHED-TTL:PT1H
BEGIN:VTIMEZONE
TZID:America/Chicago
BEGIN:DAYLIGHT
TZOFFSETFROM:-0600
TZOFFSETTO:-0500
TZNAME:CDT
DTSTART:20220313T080000
END:DAYLIGHT
BEGIN:STANDARD
TZOFFSETFROM:-0500
TZOFFSETTO:-0600
TZNAME:CST
DTSTART:20221106T070000
END:STANDARD
BEGIN:DAYLIGHT
TZOFFSETFROM:-0600
TZOFFSETTO:-0500
TZNAME:CDT
DTSTART:20230312T080000
END:DAYLIGHT
BEGIN:STANDARD
TZOFFSETFROM:-0500
TZOFFSETTO:-0600
TZNAME:CST
DTSTART:20231105T070000
END:STANDARD
BEGIN:DAYLIGHT
TZOFFSETFROM:-0600
TZOFFSETTO:-0500
TZNAME:CDT
DTSTART:20240310T080000
END:DAYLIGHT
BEGIN:STANDARD
TZOFFSETFROM:-0500
TZOFFSETTO:-0600
TZNAME:CST
DTSTART:20241103T070000
END:STANDARD
BEGIN:DAYLIGHT
TZOFFSETFROM:-0600
TZOFFSETTO:-0500
TZNAME:CDT
DTSTART:20250309T080000
END:DAYLIGHT
BEGIN:STANDARD
TZOFFSETFROM:-0500
TZOFFSETTO:-0600
TZNAME:CST
DTSTART:20251102T070000
END:STANDARD
END:VTIMEZONE
BEGIN:VEVENT
DTSTART;VALUE=DATE:20240402
DTEND;VALUE=DATE:20240404
DTSTAMP:20260419T101221
CREATED:20240314T010852Z
LAST-MODIFIED:20240314T010852Z
UID:10003184-1712016000-1712188799@www.wispro.org
SUMMARY:2024 SAME Rock Island Post Small Business Industry Day (Davenport\, IA)
DESCRIPTION:Come join the 2024 Rock Island Small Business Industry Day in the Quad Cities. As in years past\, the Post will also offer a social/networking event the night before the conference on Tuesday April 2nd\, 2024. There will be one-on-ones available on Tuesday afternoon before the social/networking event. Additional information on the one-on-one opportunities and how to sign-up will come at a later date. Both events will be held at the River Center in Davenport\, Iowa. \nRegister now for this opportunity to showcase your business’ capabilities and hear from speakers representing the private and public sectors discussing best practices and upcoming USACE projects. The event will include briefings from Rock Island District staff and opportunities to meet one-on-one with Government representatives and other businesses. This event is open to all businesses\, small and large who are interested in doing business with the federal government. \nFor more information\, click here.
URL:https://www.wispro.org/event/2024-same-rock-island-post-small-business-industry-day-davenport-ia/
LOCATION:River Center/Adler Theatre\, 136 East 3rd St.\, Davenport\, IA\, 52801\, United States
CATEGORIES:Out of State,WPI Partner Events
ATTACH;FMTTYPE=image/png:https://www.wispro.org/wp-content/uploads/2024/03/2021-06-15-SAME-RI-Post-Partner-Event-Featured-Image.png
ORGANIZER;CN="SAME Rock Island Post":MAILTO:lrozumalski@freshwatereng.com
END:VEVENT
BEGIN:VEVENT
DTSTART;TZID=America/Chicago:20230322T080000
DTEND;TZID=America/Chicago:20230322T170000
DTSTAMP:20260419T101221
CREATED:20230227T223846Z
LAST-MODIFIED:20230227T223846Z
UID:10002859-1679472000-1679504400@www.wispro.org
SUMMARY:2023 SAME Rock Island Post Small Business Industry Day
DESCRIPTION:Click here to register. \nThis is great opportunity to showcase your business’ unique capabilities and hear from speakers representing the private and public sectors discussing best practices and upcoming USACE projects. The event will include briefings from Rock Island District staff and opportunities to meet one on one with Government representatives and other businesses. This event is open to all businesses\, small and large who are interested in doing business with the federal government. SAME will also host a Pre-Conference Social and Networking Event the night before on Tuesday\, March 21\, 2023 from 5:30 – 7:30 PM (CST). Both events will be held at the River Center in Davenport\, Iowa. \nTo read more about this event and to view a full agenda\, click here.
URL:https://www.wispro.org/event/2023-same-rock-island-post-small-business-industry-day/
LOCATION:River Center/Adler Theatre\, 136 East 3rd St.\, Davenport\, IA\, 52801\, United States
CATEGORIES:Out of State,WPI Partner Events
ATTACH;FMTTYPE=image/png:https://www.wispro.org/wp-content/uploads/2024/03/SAMElogo.png
ORGANIZER;CN="SAME Rock Island Post":MAILTO:lrozumalski@freshwatereng.com
END:VEVENT
END:VCALENDAR